BEGIN:VCALENDAR
VERSION:2.0
PRODID:-//Chris D&#039;Amico Ministries - ECPv6.15.16//NONSGML v1.0//EN
CALSCALE:GREGORIAN
METHOD:PUBLISH
X-WR-CALNAME:Chris D&#039;Amico Ministries
X-ORIGINAL-URL:https://chrisdamicoministries.com
X-WR-CALDESC:Events for Chris D&#039;Amico Ministries
REFRESH-INTERVAL;VALUE=DURATION:PT1H
X-Robots-Tag:noindex
X-PUBLISHED-TTL:PT1H
BEGIN:VTIMEZONE
TZID:America/Detroit
BEGIN:DAYLIGHT
TZOFFSETFROM:-0500
TZOFFSETTO:-0400
TZNAME:EDT
DTSTART:20240310T070000
END:DAYLIGHT
BEGIN:STANDARD
TZOFFSETFROM:-0400
TZOFFSETTO:-0500
TZNAME:EST
DTSTART:20241103T060000
END:STANDARD
BEGIN:DAYLIGHT
TZOFFSETFROM:-0500
TZOFFSETTO:-0400
TZNAME:EDT
DTSTART:20250309T070000
END:DAYLIGHT
BEGIN:STANDARD
TZOFFSETFROM:-0400
TZOFFSETTO:-0500
TZNAME:EST
DTSTART:20251102T060000
END:STANDARD
BEGIN:DAYLIGHT
TZOFFSETFROM:-0500
TZOFFSETTO:-0400
TZNAME:EDT
DTSTART:20260308T070000
END:DAYLIGHT
BEGIN:STANDARD
TZOFFSETFROM:-0400
TZOFFSETTO:-0500
TZNAME:EST
DTSTART:20261101T060000
END:STANDARD
BEGIN:DAYLIGHT
TZOFFSETFROM:-0500
TZOFFSETTO:-0400
TZNAME:EDT
DTSTART:20270314T070000
END:DAYLIGHT
BEGIN:STANDARD
TZOFFSETFROM:-0400
TZOFFSETTO:-0500
TZNAME:EST
DTSTART:20271107T060000
END:STANDARD
END:VTIMEZONE
BEGIN:VEVENT
DTSTART;TZID=America/Detroit:20260319T083000
DTEND;TZID=America/Detroit:20260319T093000
DTSTAMP:20260418T030752
CREATED:20260204T054519Z
LAST-MODIFIED:20260204T054519Z
UID:4389-1773909000-1773912600@chrisdamicoministries.com
SUMMARY:Spark Broadcast
DESCRIPTION:Faith £ Fire over the NATIONS! Join Dr. Chris D’Amico March 19th\, 2026 Live on Zoom on the Spark Broadcast over Mumbia\, India\, the United Kingdom and USA.  Hosted by Gul Kripalani\, The General Consult Of Iceland to Mumbia.  Meeting starts 8:30 AM EST.  Come join us in the Word and Presence of Almighty God. 🙏🕊🙌🌎
URL:https://chrisdamicoministries.com/event/spark-broadcast-27/
LOCATION:NC
ATTACH;FMTTYPE=image/jpeg:https://chrisdamicoministries.com/wp-content/uploads/2026/02/mar19.jpg
END:VEVENT
BEGIN:VEVENT
DTSTART;TZID=America/Detroit:20260215T133000
DTEND;TZID=America/Detroit:20260215T143000
DTSTAMP:20260418T030752
CREATED:20260108T182258Z
LAST-MODIFIED:20260108T182258Z
UID:4375-1771162200-1771165800@chrisdamicoministries.com
SUMMARY:New Church - Cerritos\, CA
DESCRIPTION:Join Dr. Chris D’Amico Sunday February 15th\, 2026 Live On Zoom @ New Church in Cerritos\, California @ 10:30 AM PT and 1:30 PM EST Hosted by Pastor Myrna Gamboa.  Come join us in the Word of God and His Supernatural Presence! 🙏🕊
URL:https://chrisdamicoministries.com/event/new-church-cerritos-ca-38/
LOCATION:NC
ATTACH;FMTTYPE=image/jpeg:https://chrisdamicoministries.com/wp-content/uploads/2026/01/cd-feb15.jpg
END:VEVENT
BEGIN:VEVENT
DTSTART;TZID=America/Detroit:20260212T093000
DTEND;TZID=America/Detroit:20260212T093000
DTSTAMP:20260418T030752
CREATED:20260106T014610Z
LAST-MODIFIED:20260106T014610Z
UID:4370-1770888600-1770888600@chrisdamicoministries.com
SUMMARY:Spark Broadcast
DESCRIPTION:Faith £ Fire over the NATIONS! Join Dr. Chris D’Amico February 12th\, 2026 Live on Zoom on the Spark Broadcast over Mumbia\, India\, the United Kingdom and USA.  Hosted by Gul Kripalani\, The General Consult Of Iceland to Mumbia.  Meeting starts 8:030 AM EST.  Come join us in the Word and Presence of Almighty God. 🙏🕊🙌🌎
URL:https://chrisdamicoministries.com/event/spark-broadcast-26/
LOCATION:NC
ATTACH;FMTTYPE=image/jpeg:https://chrisdamicoministries.com/wp-content/uploads/2026/01/feb-12.jpg
END:VEVENT
BEGIN:VEVENT
DTSTART;TZID=America/Detroit:20260122T093000
DTEND;TZID=America/Detroit:20260122T093000
DTSTAMP:20260418T030752
CREATED:20260104T071157Z
LAST-MODIFIED:20260104T071157Z
UID:4362-1769074200-1769074200@chrisdamicoministries.com
SUMMARY:Spark Broadcast
DESCRIPTION:Faith £ Fire over the NATIONS! Join Dr. Chris D’Amico January 22nd\, 2026 Live on Zoom on the Spark Broadcast over Mumbia\, India\, the United Kingdom and USA.  Hosted by Gul Kripalani\, The General Consult Of Iceland to Mumbia.  Meeting starts 9:30 AM EST.  Come join us in the Word and Presence of Almighty God. 🙏🕊🙌🌎
URL:https://chrisdamicoministries.com/event/spark-broadcast-25/
LOCATION:NC
ATTACH;FMTTYPE=image/jpeg:https://chrisdamicoministries.com/wp-content/uploads/2026/01/jan22.jpg
END:VEVENT
BEGIN:VEVENT
DTSTART;TZID=America/Detroit:20260111T133000
DTEND;TZID=America/Detroit:20260111T143000
DTSTAMP:20260418T030752
CREATED:20260104T071236Z
LAST-MODIFIED:20260104T071236Z
UID:4363-1768138200-1768141800@chrisdamicoministries.com
SUMMARY:New Church - Cerritos\, CA
DESCRIPTION:Join Dr. Chris D’Amico Sunday January 11\, 2026 Live On Zoom @ New Church in Cerritos\, California @ 10:30 AM PT and 1:30 PM EST Hosted by Pastor Myrna Gamboa.  Come join us in the Word of God and His Supernatural Presence! 🙏🕊🌐
URL:https://chrisdamicoministries.com/event/new-church-cerritos-ca-37/
LOCATION:NC
ATTACH;FMTTYPE=image/jpeg:https://chrisdamicoministries.com/wp-content/uploads/2026/01/jan11.jpg
END:VEVENT
BEGIN:VEVENT
DTSTART;TZID=America/Detroit:20251221T133000
DTEND;TZID=America/Detroit:20251221T143000
DTSTAMP:20260418T030752
CREATED:20251208T130018Z
LAST-MODIFIED:20251221T134435Z
UID:4340-1766323800-1766327400@chrisdamicoministries.com
SUMMARY:New Church - Cerritos\, CA
DESCRIPTION:Join Dr. Chris D’Amico Sunday December 21st\, 2025 Live On Zoom @ New Church in Cerritos\, California @ 10:30 AM PT and 1:30 PM EST Hosted by Pastor Myrna Gamboa.  Come join us in the Word of God and His Supernatural Presence! 🙏🕊🌐
URL:https://chrisdamicoministries.com/event/new-church-cerritos-ca-36/
LOCATION:NC
ATTACH;FMTTYPE=image/png:https://chrisdamicoministries.com/wp-content/uploads/2025/12/dec-21.png
END:VEVENT
BEGIN:VEVENT
DTSTART;TZID=America/Detroit:20251217T093000
DTEND;TZID=America/Detroit:20251217T093000
DTSTAMP:20260418T030752
CREATED:20251208T130326Z
LAST-MODIFIED:20251221T134539Z
UID:4343-1765963800-1765963800@chrisdamicoministries.com
SUMMARY:Spark Broadcast
DESCRIPTION:Faith £ Fire over the NATIONS! Join Dr. Chris D’Amico.  December 17th\, 2025 Live on Zoom on the Spark Broadcast over Mumbia\, India\, the United Kingdom and USA.  Hosted by Gul Kripalani\, The General Consult Of Iceland to Mumbia.  Meeting starts 9:30 AM EST.  Come join us in the Word and Presence of Almighty God. 🙏🕊🙌🌎
URL:https://chrisdamicoministries.com/event/spark-broadcast-24/
LOCATION:NC
ATTACH;FMTTYPE=image/png:https://chrisdamicoministries.com/wp-content/uploads/2025/12/dec-17.png
END:VEVENT
BEGIN:VEVENT
DTSTART;TZID=America/Detroit:20251121T093000
DTEND;TZID=America/Detroit:20251121T103000
DTSTAMP:20260418T030752
CREATED:20251015T193940Z
LAST-MODIFIED:20251015T193940Z
UID:4323-1763717400-1763721000@chrisdamicoministries.com
SUMMARY:Spark Broadcast
DESCRIPTION:Faith £ Fire over the NATIONS! Join Dr. Chris D’Amico.  November 21st\, 2025 Live on Zoom on the Spark Broadcast over Mumbia\, India\, the United Kingdom and USA.  Hosted by Gul Kripalani\, The General Consult Of Iceland to Mumbia.  Meeting starts 9:30 AM EST.  Come join us in the Word and Presence of Almighty God. 🙏🕊🙌🌎
URL:https://chrisdamicoministries.com/event/spark-broadcast-23/
LOCATION:NC
ATTACH;FMTTYPE=image/jpeg:https://chrisdamicoministries.com/wp-content/uploads/2025/10/cdm02.jpg
END:VEVENT
BEGIN:VEVENT
DTSTART;TZID=America/Detroit:20251116T133000
DTEND;TZID=America/Detroit:20251116T143000
DTSTAMP:20260418T030752
CREATED:20251015T193804Z
LAST-MODIFIED:20251015T193804Z
UID:4320-1763299800-1763303400@chrisdamicoministries.com
SUMMARY:New Church - Cerritos\, CA
DESCRIPTION:Join Dr. Chris D’Amico Sunday November 16th\, 2025 Live On Zoom @ New Church in Cerritos\, California @ 10:30 AM PT and 1:30 PM EST Hosted by Pastor Myrna Gamboa.  Come join us in the Word of God and His Supernatural Presence! 🙏🕊🌐
URL:https://chrisdamicoministries.com/event/new-church-cerritos-ca-35/
LOCATION:NC
ATTACH;FMTTYPE=image/jpeg:https://chrisdamicoministries.com/wp-content/uploads/2025/10/cdm.jpg
END:VEVENT
BEGIN:VEVENT
DTSTART;VALUE=DATE:20251109
DTEND;VALUE=DATE:20251111
DTSTAMP:20260418T030752
CREATED:20250613T130551Z
LAST-MODIFIED:20250613T130551Z
UID:4251-1762646400-1762819199@chrisdamicoministries.com
SUMMARY:Everlasting Love Church - Columbus\, NE
DESCRIPTION:Join Dr. Chris D’Amico for Special Fresh Fire Meetings this upcoming Month  November 9th-10th\, 2025 @ Everlasting Love Church with Pastors Pat £ Rose Ann Cool.  Come Join us experience supernatural revival fire powerful services of the Word and Spirit Meetings! You will never be the same! Jesus Is Lord! 🙏🕊🌐
URL:https://chrisdamicoministries.com/event/everlasting-love-church-columbus-ne/
LOCATION:Everlasting Love Church\, 4714 27th St\, Columbus\, NE\, 68601\, United States
ATTACH;FMTTYPE=image/jpeg:https://chrisdamicoministries.com/wp-content/uploads/2025/06/nov9.jpg
END:VEVENT
BEGIN:VEVENT
DTSTART;TZID=America/Detroit:20251026T133000
DTEND;TZID=America/Detroit:20251026T143000
DTSTAMP:20260418T030752
CREATED:20250721T131827Z
LAST-MODIFIED:20250721T131827Z
UID:4285-1761485400-1761489000@chrisdamicoministries.com
SUMMARY:New Church - Cerritos\, CA
DESCRIPTION:Join Dr. Chris D’Amico Sunday October 26th\, 2025 Live On Zoom @ New Church in Cerritos\, California @ 10:30 AM PT and 1:30 PM EST Hosted by Pastor Myrna Gamboa.  Come join us in the Word of God and His Supernatural Presence! 🙏🕊🌐
URL:https://chrisdamicoministries.com/event/new-church-cerritos-ca-34/
LOCATION:NC
ATTACH;FMTTYPE=image/jpeg:https://chrisdamicoministries.com/wp-content/uploads/2025/07/cdm-cot26.jpg
END:VEVENT
BEGIN:VEVENT
DTSTART;VALUE=DATE:20251019
DTEND;VALUE=DATE:20251021
DTSTAMP:20260418T030753
CREATED:20250613T130732Z
LAST-MODIFIED:20250721T131910Z
UID:4255-1760832000-1761004799@chrisdamicoministries.com
SUMMARY:New Vision Ministries - Murfreesboro\, NC
DESCRIPTION:Join Dr. Chris D’Amico for Special Fresh Fire Meetings upcoming Month  of October 19th-20th\, 2025 @ New Vision Ministries with Pastors Sandy £ Heather Outlaw.  Come Join us experience supernatural revival fire powerful services of the Word and Spirit Meetings! You will never be the same! Jesus Is Lord! 🙏🕊🌐
URL:https://chrisdamicoministries.com/event/new-vision-ministries-murfreesboro-nc-4/
LOCATION:New Vision Ministries\, 1845 NC-11\, Murfreesboro\, NC\, 27855
ATTACH;FMTTYPE=image/jpeg:https://chrisdamicoministries.com/wp-content/uploads/2025/06/cdm-oct-19.jpg
END:VEVENT
BEGIN:VEVENT
DTSTART;TZID=America/Detroit:20250918T093000
DTEND;TZID=America/Detroit:20250918T093000
DTSTAMP:20260418T030753
CREATED:20250820T192235Z
LAST-MODIFIED:20250820T192235Z
UID:4301-1758187800-1758187800@chrisdamicoministries.com
SUMMARY:Spark Broadcast
DESCRIPTION:Faith £ Fire over the NATIONS! Join Dr. Chris D’Amico. September 18th\, 2025 Live on Zoom on the Spark Broadcast over Mumbia\, India\, the United Kingdom and USA.  Hosted by Gul Kripalani\, The General Consult Of Iceland to Mumbia.  Meeting starts 9:30 AM EST.  Come join us in the Word and Presence of Almighty God. 🙏🕊🙌🌎
URL:https://chrisdamicoministries.com/event/spark-broadcast-22/
LOCATION:NC
ATTACH;FMTTYPE=image/jpeg:https://chrisdamicoministries.com/wp-content/uploads/2025/08/sept18.jpg
END:VEVENT
BEGIN:VEVENT
DTSTART;TZID=America/Detroit:20250914T133000
DTEND;TZID=America/Detroit:20250914T143000
DTSTAMP:20260418T030753
CREATED:20250625T021020Z
LAST-MODIFIED:20250625T021020Z
UID:4274-1757856600-1757860200@chrisdamicoministries.com
SUMMARY:New Church - Cerritos\, CA
DESCRIPTION:Join Dr. Chris D’Amico Sunday September 14th\, 2025 Live On Zoom @ New Church in Cerritos\, California @ 10:30 AM PT and 1:30 PM EST Hosted by Pastor Myrna Gamboa.  Come join us in the Word of God and His Supernatural Presence! 🙏🕊🌐
URL:https://chrisdamicoministries.com/event/new-church-cerritos-ca-33/
LOCATION:NC
ATTACH;FMTTYPE=image/jpeg:https://chrisdamicoministries.com/wp-content/uploads/2025/06/sept14.jpg
END:VEVENT
BEGIN:VEVENT
DTSTART;TZID=America/Detroit:20250817T133000
DTEND;TZID=America/Detroit:20250817T143000
DTSTAMP:20260418T030753
CREATED:20250625T020755Z
LAST-MODIFIED:20250625T020755Z
UID:4268-1755437400-1755441000@chrisdamicoministries.com
SUMMARY:New Church - Cerritos\, CA
DESCRIPTION:Join Dr. Chris D’Amico Sunday August 17th\, 2025 Live On Zoom @ New Church in Cerritos\, California @ 10:30 AM PT and 1:30 PM EST Hosted by Pastor Myrna Gamboa.  Come join us in the Word of God and His Supernatural Presence! 🙏🕊🌐
URL:https://chrisdamicoministries.com/event/new-church-cerritos-ca-32/
LOCATION:NC
ATTACH;FMTTYPE=image/jpeg:https://chrisdamicoministries.com/wp-content/uploads/2025/06/aug17.jpg
END:VEVENT
BEGIN:VEVENT
DTSTART;TZID=America/Detroit:20250815T093000
DTEND;TZID=America/Detroit:20250815T093000
DTSTAMP:20260418T030753
CREATED:20250625T020921Z
LAST-MODIFIED:20250625T020921Z
UID:4271-1755250200-1755250200@chrisdamicoministries.com
SUMMARY:Spark Broadcast
DESCRIPTION:Faith £ Fire over the NATIONS! Join Dr. Chris D’Amico. August 15th\, 2025 Live on Zoom on the Spark Broadcast over Mumbia\, India\, the United Kingdom and USA.  Hosted by Gul Kripalani\, The General Consult Of Iceland to Mumbia.  Meeting starts 9:30 AM EST.  Come join us in the Word and Presence of Almighty God. 🙏🕊🙌🌎
URL:https://chrisdamicoministries.com/event/spark-broadcast-21/
LOCATION:NC
ATTACH;FMTTYPE=image/jpeg:https://chrisdamicoministries.com/wp-content/uploads/2025/06/aug15.jpg
END:VEVENT
BEGIN:VEVENT
DTSTART;TZID=America/Detroit:20250717T093000
DTEND;TZID=America/Detroit:20250717T093000
DTSTAMP:20260418T030753
CREATED:20250625T020644Z
LAST-MODIFIED:20250625T020644Z
UID:4265-1752744600-1752744600@chrisdamicoministries.com
SUMMARY:Spark Broadcast
DESCRIPTION:Faith £ Fire over the NATIONS! Join Dr. Chris D’Amico. July 17th\, 2025 Live on Zoom on the Spark Broadcast over Mumbia\, India\, the United Kingdom and USA.  Hosted by Gul Kripalani\, The General Consult Of Iceland to Mumbia.  Meeting starts 9:30 AM EST.  Come join us in the Word and Presence of Almighty God. 🙏🕊🙌🌎
URL:https://chrisdamicoministries.com/event/spark-broadcast-20/
LOCATION:NC
ATTACH;FMTTYPE=image/jpeg:https://chrisdamicoministries.com/wp-content/uploads/2025/06/july17.jpg
END:VEVENT
BEGIN:VEVENT
DTSTART;TZID=America/Detroit:20250713T133000
DTEND;TZID=America/Detroit:20250713T143000
DTSTAMP:20260418T030753
CREATED:20250625T020535Z
LAST-MODIFIED:20250625T020535Z
UID:4262-1752413400-1752417000@chrisdamicoministries.com
SUMMARY:New Church - Cerritos\, CA
DESCRIPTION:Join Dr. Chris D’Amico Sunday July 13th\, 2025 Live On Zoom @ New Church in Cerritos\, California @ 10:30 AM PT and 1:30 PM EST Hosted by Pastor Myrna Gamboa.  Come join us in the Word of God and His Supernatural Presence! 🙏🕊🌐
URL:https://chrisdamicoministries.com/event/new-church-cerritos-ca-31/
LOCATION:NC
ATTACH;FMTTYPE=image/jpeg:https://chrisdamicoministries.com/wp-content/uploads/2025/06/july13.jpg
END:VEVENT
BEGIN:VEVENT
DTSTART;TZID=America/Detroit:20250626T093000
DTEND;TZID=America/Detroit:20250626T093000
DTSTAMP:20260418T030753
CREATED:20250613T130006Z
LAST-MODIFIED:20250613T130006Z
UID:4246-1750930200-1750930200@chrisdamicoministries.com
SUMMARY:Spark Broadcast
DESCRIPTION:Faith £ Fire over the NATIONS! Join Dr. Chris D’Amico. June 26th\, 2025 Live on Zoom on the Spark Broadcast over Mumbia\, India\, the United Kingdom and USA.  Hosted by Gul Kripalani\, The General Consult Of Iceland to Mumbia.  Meeting starts 9:30 AM EST.  Come join us in the Word and Presence of Almighty God. 🙏🕊🙌🌎
URL:https://chrisdamicoministries.com/event/spark-broadcast-19/
LOCATION:NC
ATTACH;FMTTYPE=image/jpeg:https://chrisdamicoministries.com/wp-content/uploads/2025/06/june26.jpg
END:VEVENT
BEGIN:VEVENT
DTSTART;TZID=America/Detroit:20250622T133000
DTEND;TZID=America/Detroit:20250622T143000
DTSTAMP:20260418T030753
CREATED:20250515T182301Z
LAST-MODIFIED:20250515T182301Z
UID:4232-1750599000-1750602600@chrisdamicoministries.com
SUMMARY:New Church - Cerritos\, CA
DESCRIPTION:Join Dr. Chris D’Amico Sunday June 22nd\, 2025 Live On Zoom @ New Church in Cerritos\, California @ 10:30 AM PT and 1:30 PM EST Hosted by Pastor Myrna Gamboa.  Come join us in the Word of God and His Supernatural Presence! 🙏🕊🌐
URL:https://chrisdamicoministries.com/event/new-church-cerritos-ca-30/
LOCATION:NC
ATTACH;FMTTYPE=image/jpeg:https://chrisdamicoministries.com/wp-content/uploads/2025/05/june22.jpg
END:VEVENT
BEGIN:VEVENT
DTSTART;TZID=America/Detroit:20250608T133000
DTEND;TZID=America/Detroit:20250608T143000
DTSTAMP:20260418T030753
CREATED:20250506T050903Z
LAST-MODIFIED:20250506T050903Z
UID:4224-1749389400-1749393000@chrisdamicoministries.com
SUMMARY:New Church - Cerritos\, CA
DESCRIPTION:Join Dr. Chris D’Amico Sunday June 8th\, 2025 Live On Zoom @ New Church in Cerritos\, California @ 10:30 AM PT and 1:30 PM EST Hosted by Pastor Myrna Gamboa.  Come join us in the Word of God and His Supernatural Presence! 🙏🕊🌐
URL:https://chrisdamicoministries.com/event/new-church-cerritos-ca-29/
LOCATION:NC
ATTACH;FMTTYPE=image/png:https://chrisdamicoministries.com/wp-content/uploads/2025/05/june-8.png
END:VEVENT
BEGIN:VEVENT
DTSTART;VALUE=DATE:20250525
DTEND;VALUE=DATE:20250531
DTSTAMP:20260418T030753
CREATED:20250424T174643Z
LAST-MODIFIED:20250424T174643Z
UID:4189-1748131200-1748649599@chrisdamicoministries.com
SUMMARY:Eagles Nest Cathedral - Dallas\, TX
DESCRIPTION:Join Dr. Chris D’Amico for Special Fresh Fire Meetings this upcoming week May 25th-30th\, 2025 @ Eagles Nest Cathedral Church with Pastor and Evangelist W.V. Grant.  Come Join us experience supernatural revival fire powerful services of the Word and Spirit Meetings! You will never be the same! Jesus Is Lord! 🙏🕊🌐
URL:https://chrisdamicoministries.com/event/eagles-nest-cathedral-dallas-tx/
LOCATION:Eagles Nest Cathedral\, 1440 Regal Row #200\, Dallas\, Texas\, 75247
ATTACH;FMTTYPE=image/jpeg:https://chrisdamicoministries.com/wp-content/uploads/2025/04/may25.jpg
END:VEVENT
BEGIN:VEVENT
DTSTART;TZID=America/Detroit:20250508T083000
DTEND;TZID=America/Detroit:20250508T093000
DTSTAMP:20260418T030753
CREATED:20250402T125635Z
LAST-MODIFIED:20250402T125635Z
UID:4105-1746693000-1746696600@chrisdamicoministries.com
SUMMARY:Spark Broadcast
DESCRIPTION:Faith £ Fire over the NATIONS! Join Dr. Chris D’Amico. May 8th\, 2025 Live on Zoom on the Spark Broadcast over Mumbia\, India\, the United Kingdom and USA.  Hosted by Gul Kripalani\, The General Consult Of Iceland to Mumbia.  Meeting starts 8:30 AM EST.  Come join us in the Word and Presence of Almighty God. 🙏🕊🙌🌎
URL:https://chrisdamicoministries.com/event/spark-broadcast-18/
LOCATION:NC
ATTACH;FMTTYPE=image/png:https://chrisdamicoministries.com/wp-content/uploads/2025/04/may-8.png
END:VEVENT
BEGIN:VEVENT
DTSTART;TZID=America/Detroit:20250425T083000
DTEND;TZID=America/Detroit:20250425T093000
DTSTAMP:20260418T030753
CREATED:20250328T022823Z
LAST-MODIFIED:20250424T191402Z
UID:4084-1745569800-1745573400@chrisdamicoministries.com
SUMMARY:Spark Broadcast
DESCRIPTION:Faith £ Fire over the NATIONS! Join Dr. Chris D’Amico. April 25th\, 2025 Live on Zoom on the Spark Broadcast over Mumbia\, India\, the United Kingdom and USA.  Hosted by Gul Kripalani\, The General Consult Of Iceland to Mumbia.  Meeting starts 8:30 AM EST.  Come join us in the Word and Presence of Almighty God. 🙏🕊
URL:https://chrisdamicoministries.com/event/spark-broadcast-17/
LOCATION:NC
ATTACH;FMTTYPE=image/jpeg:https://chrisdamicoministries.com/wp-content/uploads/2025/03/april25.jpg
END:VEVENT
BEGIN:VEVENT
DTSTART;VALUE=DATE:20250413
DTEND;VALUE=DATE:20250419
DTSTAMP:20260418T030753
CREATED:20250211T044756Z
LAST-MODIFIED:20250211T044842Z
UID:3922-1744502400-1745020799@chrisdamicoministries.com
SUMMARY:Fresh Fire Meetings - Dallas\, TX
DESCRIPTION:Join Dr. Chris D’Amico for Special Fresh Fire Meetings April 13th-18th\, 2025 @ Eagles Nest Cathedral Church with Pastor and Evangelist W.V. Grant.  Come Join us experience supernatural revival fire powerful services of the Word and Spirit Meetings! You will never be the same! Jesus Is Lord! 🙏🕊🌐
URL:https://chrisdamicoministries.com/event/fresh-fire-meetings/
LOCATION:NC
ATTACH;FMTTYPE=image/jpeg:https://chrisdamicoministries.com/wp-content/uploads/2025/02/aoril13.jpg
END:VEVENT
BEGIN:VEVENT
DTSTART;TZID=America/Detroit:20250406T133000
DTEND;TZID=America/Detroit:20250406T143000
DTSTAMP:20260418T030753
CREATED:20250328T022658Z
LAST-MODIFIED:20250328T022658Z
UID:4081-1743946200-1743949800@chrisdamicoministries.com
SUMMARY:New Church - Cerritos\, CA
DESCRIPTION:Join Dr. Chris D’Amico Sunday April 6th\, 2025 Live On Zoom @ New Church in Cerritos\, California @ 10:30 AM PT and 1:30 PM EST Hosted by Pastor Myrna Gamboa.  Come join us in the Word of God and His Supernatural Presence! 🙏🕊🌐
URL:https://chrisdamicoministries.com/event/new-church-cerritos-ca-28/
LOCATION:NC
ATTACH;FMTTYPE=image/jpeg:https://chrisdamicoministries.com/wp-content/uploads/2025/03/ap6.jpg
END:VEVENT
BEGIN:VEVENT
DTSTART;TZID=America/Detroit:20250330T133000
DTEND;TZID=America/Detroit:20250330T143000
DTSTAMP:20260418T030753
CREATED:20250224T161452Z
LAST-MODIFIED:20250224T161452Z
UID:3983-1743341400-1743345000@chrisdamicoministries.com
SUMMARY:New Church - Cerritos\, CA
DESCRIPTION:Join Dr. Chris D’Amico\, Sunday\, March 30th\, 2025 Live On Zoom @ New Church in Cerritos\, California @ 10:30 AM PT and 1:30 PM EST Hosted by Pastor Myrna Gamboa. Come join us in the Word of God and His Supernatural Presence! 🙏🕊🌐
URL:https://chrisdamicoministries.com/event/new-church-cerritos-ca-27/
LOCATION:NC
ATTACH;FMTTYPE=image/jpeg:https://chrisdamicoministries.com/wp-content/uploads/2025/02/mar30.jpg
END:VEVENT
BEGIN:VEVENT
DTSTART;TZID=America/Detroit:20250316T133000
DTEND;TZID=America/Detroit:20250316T143000
DTSTAMP:20260418T030753
CREATED:20250224T160251Z
LAST-MODIFIED:20250224T160251Z
UID:3980-1742131800-1742135400@chrisdamicoministries.com
SUMMARY:New Church - Cerritos\, CA
DESCRIPTION:Join Dr. Chris D’Amico\, Sunday\, March 16th\, 2025 Live On Zoom @ New Church in Cerritos\, California @ 10:30 AM PT and 1:30 PM EST Hosted by Pastor Myrna Gamboa. Come join us in the Word of God and His Supernatural Presence! 🙏🕊🌐
URL:https://chrisdamicoministries.com/event/new-church-cerritos-ca-26/
LOCATION:NC
ATTACH;FMTTYPE=image/jpeg:https://chrisdamicoministries.com/wp-content/uploads/2025/02/mar16.jpg
END:VEVENT
BEGIN:VEVENT
DTSTART;TZID=America/Detroit:20250306T083000
DTEND;TZID=America/Detroit:20250306T093000
DTSTAMP:20260418T030753
CREATED:20250202T192737Z
LAST-MODIFIED:20250202T192737Z
UID:3892-1741249800-1741253400@chrisdamicoministries.com
SUMMARY:Spark Broadcast
DESCRIPTION:Faith £ Fire over the NATIONS! Join Dr. Chris D’Amico. March 6th\, 2025 Live on Zoom on the Spark Broadcast over Mumbia\, India\, the United Kingdom and USA.  Hosted by Gul Kripalani\, The General Consult Of Iceland to Mumbia.  Meeting starts 8:30 AM EST.  Come join us in the Word and Presence of Almighty God. 🙏🕊
URL:https://chrisdamicoministries.com/event/spark-broadcast-16/
LOCATION:NC
ATTACH;FMTTYPE=image/jpeg:https://chrisdamicoministries.com/wp-content/uploads/2025/02/march-6.jpg
END:VEVENT
BEGIN:VEVENT
DTSTART;VALUE=DATE:20250216
DTEND;VALUE=DATE:20250217
DTSTAMP:20260418T030753
CREATED:20250115T033715Z
LAST-MODIFIED:20250115T033715Z
UID:3821-1739664000-1739750399@chrisdamicoministries.com
SUMMARY:Faith Bible Fellowship - El Paso\, TX
DESCRIPTION:Join Dr. Chris D’Amico for Special Fresh Fire Meetings February 16th\, 2025 @ Faith Bible Fellowship In EL Paso\, Texas with Pastor Gil Zaragoza.  Come Join us is two powerful services of the Word and Spirit Meetings! You will never be the same! Jesus Is Lord! 🙏🕊🌐
URL:https://chrisdamicoministries.com/event/faith-bible-fellowship-el-paso-tx-2/
LOCATION:NC
ATTACH;FMTTYPE=image/jpeg:https://chrisdamicoministries.com/wp-content/uploads/2025/01/feb16.jpg
END:VEVENT
END:VCALENDAR