BEGIN:VCALENDAR
VERSION:2.0
PRODID:-//Chris D&#039;Amico Ministries - ECPv6.15.16//NONSGML v1.0//EN
CALSCALE:GREGORIAN
METHOD:PUBLISH
X-ORIGINAL-URL:https://chrisdamicoministries.com
X-WR-CALDESC:Events for Chris D&#039;Amico Ministries
REFRESH-INTERVAL;VALUE=DURATION:PT1H
X-Robots-Tag:noindex
X-PUBLISHED-TTL:PT1H
BEGIN:VTIMEZONE
TZID:America/Detroit
BEGIN:DAYLIGHT
TZOFFSETFROM:-0500
TZOFFSETTO:-0400
TZNAME:EDT
DTSTART:20230312T070000
END:DAYLIGHT
BEGIN:STANDARD
TZOFFSETFROM:-0400
TZOFFSETTO:-0500
TZNAME:EST
DTSTART:20231105T060000
END:STANDARD
BEGIN:DAYLIGHT
TZOFFSETFROM:-0500
TZOFFSETTO:-0400
TZNAME:EDT
DTSTART:20240310T070000
END:DAYLIGHT
BEGIN:STANDARD
TZOFFSETFROM:-0400
TZOFFSETTO:-0500
TZNAME:EST
DTSTART:20241103T060000
END:STANDARD
BEGIN:DAYLIGHT
TZOFFSETFROM:-0500
TZOFFSETTO:-0400
TZNAME:EDT
DTSTART:20250309T070000
END:DAYLIGHT
BEGIN:STANDARD
TZOFFSETFROM:-0400
TZOFFSETTO:-0500
TZNAME:EST
DTSTART:20251102T060000
END:STANDARD
END:VTIMEZONE
BEGIN:VEVENT
DTSTART;TZID=America/Detroit:20241127T093000
DTEND;TZID=America/Detroit:20241127T103000
DTSTAMP:20260421T105006
CREATED:20241013T035526Z
LAST-MODIFIED:20241013T035526Z
UID:3357-1732699800-1732703400@chrisdamicoministries.com
SUMMARY:Spark Broadcast
DESCRIPTION:Faith £ Fire over the NATIONS! Join Dr. Chris D’Amico. November 27th\, 2024 Live on Zoom on the Spark Broadcast over Mumbia\, India\, the United Kingdom and USA.  Hosted by Gul Kripalani\, The General Consult Of Iceland to Mumbia.  Meeting starts 9:30 AM EST.  Come join us in the Word and Presence of Almighty God. 🙏🕊🔥
URL:https://chrisdamicoministries.com/event/spark-broadcast-15/
ATTACH;FMTTYPE=image/jpeg:https://chrisdamicoministries.com/wp-content/uploads/2024/10/nov27.jpg
END:VEVENT
BEGIN:VEVENT
DTSTART;VALUE=DATE:20241122
DTEND;VALUE=DATE:20241125
DTSTAMP:20260421T105006
CREATED:20241013T035921Z
LAST-MODIFIED:20241013T035921Z
UID:3364-1732233600-1732492799@chrisdamicoministries.com
SUMMARY:Church On The Hill - Hondo\, TX
DESCRIPTION:Join Dr. Chris D’Amico for Special Fresh Fire Meetings November 22nd-24th\, 2024 @ Church On The Hill In Hondo\, Texas with Dr. £ Pastor’s Alfonso And Shelia Vargas.  These dates are a changed and rescheduling due to Hurricane Milton.  Come Join us is Four powerful services of the Word and Spirit Meetings! You will never be the same! Jesus Is Lord! 🙏🕊🌐🙌
URL:https://chrisdamicoministries.com/event/church-on-the-hill-hondo-tx-2/
ATTACH;FMTTYPE=image/jpeg:https://chrisdamicoministries.com/wp-content/uploads/2024/10/nov22.jpg
END:VEVENT
BEGIN:VEVENT
DTSTART;TZID=America/Detroit:20241117T133000
DTEND;TZID=America/Detroit:20241117T143000
DTSTAMP:20260421T105006
CREATED:20241013T040055Z
LAST-MODIFIED:20241013T040055Z
UID:3367-1731850200-1731853800@chrisdamicoministries.com
SUMMARY:New Church - Cerritos\, CA
DESCRIPTION:Join Dr. Chris D’Amico Sunday November 17th\, 2024 Live On Zoom @ New Church in Cerritos\, California @ 10:30 AM PT and 1:30 PM EST Hosted by Pastor Myrna Gamboa.  Come join us in the Word of God and His Supernatural Presence! 🙏🕊🌐
URL:https://chrisdamicoministries.com/event/new-church-cerritos-ca-24/
ATTACH;FMTTYPE=image/jpeg:https://chrisdamicoministries.com/wp-content/uploads/2024/10/nov17.jpg
END:VEVENT
BEGIN:VEVENT
DTSTART;VALUE=DATE:20241108
DTEND;VALUE=DATE:20241111
DTSTAMP:20260421T105006
CREATED:20240917T233435Z
LAST-MODIFIED:20241031T055643Z
UID:3190-1731024000-1731283199@chrisdamicoministries.com
SUMMARY:Gospel Truth Lighthouse - Gadsen\, AL
DESCRIPTION:Join Dr. Chris D’Amico November 8th-10th\, 2024 @ Gospel Truth Lighthouse with Pastors Larry and Martha Perkins! Come experience the Uncompromised Word of God and Mighty Move of Gods supernatural power! Jesus is Lord! If you’re in the area come Join us in the move of God! 🙏🕊🌐🙌
URL:https://chrisdamicoministries.com/event/gospel-truth-lighthouse-gadsen-al/
ATTACH;FMTTYPE=image/jpeg:https://chrisdamicoministries.com/wp-content/uploads/2024/09/nov8.jpg
END:VEVENT
BEGIN:VEVENT
DTSTART;TZID=America/Detroit:20241103T133000
DTEND;TZID=America/Detroit:20241103T143000
DTSTAMP:20260421T105006
CREATED:20240528T050933Z
LAST-MODIFIED:20240528T050933Z
UID:2558-1730640600-1730644200@chrisdamicoministries.com
SUMMARY:New Church - Cerritos\, CA
DESCRIPTION:Join Dr. Chris D’Amico Sunday November 3rd\, 2024 Live On Zoom @ New Church in Cerritos\, California @ 10:30 AM PT and 1:30 PM EST Hosted by Pastor Myrna Gamboa.  Come join us in the Word of God and His Supernatural Presence! 🙏🕊🌐
URL:https://chrisdamicoministries.com/event/new-church-cerritos-ca-20/
ATTACH;FMTTYPE=image/jpeg:https://chrisdamicoministries.com/wp-content/uploads/2024/05/nov3.jpg
END:VEVENT
BEGIN:VEVENT
DTSTART;TZID=America/Detroit:20241024T093000
DTEND;TZID=America/Detroit:20241024T103000
DTSTAMP:20260421T105006
CREATED:20240919T131246Z
LAST-MODIFIED:20241022T030533Z
UID:3211-1729762200-1729765800@chrisdamicoministries.com
SUMMARY:Spark Broadcast
DESCRIPTION:Faith £ Fire over the NATIONS! Join Dr. Chris D’Amico\, October 24th\, 2024 Live on Zoom on the Spark Broadcast over Mumbia\, India\, the United Kingdom and USA.  Hosted by Gul Kripalani\, The General Consult Of Iceland to Mumbia.  Meeting starts 9:30 AM EST.  Come join us in the Word and Presence of Almighty God. 🙏🕊🔥
URL:https://chrisdamicoministries.com/event/spark-broadcast-14/
ATTACH;FMTTYPE=image/jpeg:https://chrisdamicoministries.com/wp-content/uploads/2024/09/oct-24.jpg
END:VEVENT
BEGIN:VEVENT
DTSTART;VALUE=DATE:20241011
DTEND;VALUE=DATE:20241014
DTSTAMP:20260421T105006
CREATED:20240309T021449Z
LAST-MODIFIED:20240415T133157Z
UID:2272-1728604800-1728863999@chrisdamicoministries.com
SUMMARY:Church On The Hill - Hondo\, TX
DESCRIPTION:Join Dr. Chris D’Amico for Special Fresh Fire Meetings October 11th-13th\, 2024 @ Church On The Hill In Hondo\, Texas with Pastor’s Alfonso And Shelia Vergas.  Come Join us is Four powerful services of the Word and Spirit Meetings! You will never be the same! Jesus Is Lord! 🙏🕊🌐🙌
URL:https://chrisdamicoministries.com/event/church-on-the-hill-hondo-tx/
ATTACH;FMTTYPE=image/png:https://chrisdamicoministries.com/wp-content/uploads/2024/03/oct11.png
END:VEVENT
BEGIN:VEVENT
DTSTART;TZID=America/Detroit:20241006T133000
DTEND;TZID=America/Detroit:20241006T143000
DTSTAMP:20260421T105006
CREATED:20240513T134758Z
LAST-MODIFIED:20240513T134758Z
UID:2520-1728221400-1728225000@chrisdamicoministries.com
SUMMARY:New Church - Cerritos\, CA
DESCRIPTION:Join Dr. Chris D’Amico Sunday October 6th\, 2024 Live On Zoom @ New Church in Cerritos\, California @ 10:30 AM PT and 1:30 PM EST Hosted by Pastor Myrna Gamboa. Come join us in the Word of God and His Supernatural Presence! 🙏🕊🌐
URL:https://chrisdamicoministries.com/event/new-church-cerritos-ca-19/
ATTACH;FMTTYPE=image/png:https://chrisdamicoministries.com/wp-content/uploads/2024/05/oct6.png
END:VEVENT
BEGIN:VEVENT
DTSTART;TZID=America/Detroit:20240929T133000
DTEND;TZID=America/Detroit:20240929T143000
DTSTAMP:20260421T105006
CREATED:20240919T131015Z
LAST-MODIFIED:20240919T131015Z
UID:3208-1727616600-1727620200@chrisdamicoministries.com
SUMMARY:New Church - Cerritos\, CA
DESCRIPTION:Join Dr. Chris D’Amico Sunday September 29th\, 2024 Live On Zoom @ New Church in Cerritos\, California @ 10:30 AM PT and 1:30 PM EST Hosted by Pastor Myrna Gamboa.  Come join us in the Word of God and His Supernatural Presence! 🙏🕊🌐
URL:https://chrisdamicoministries.com/event/new-church-cerritos-ca-22/
ATTACH;FMTTYPE=image/jpeg:https://chrisdamicoministries.com/wp-content/uploads/2024/09/sept29.jpg
END:VEVENT
BEGIN:VEVENT
DTSTART;TZID=America/Detroit:20240912T093000
DTEND;TZID=America/Detroit:20240912T103000
DTSTAMP:20260421T105006
CREATED:20240804T173631Z
LAST-MODIFIED:20240919T125743Z
UID:2961-1726133400-1726137000@chrisdamicoministries.com
SUMMARY:Spark Broadcast
DESCRIPTION:Faith £ Fire over the NATIONS! Join Dr. Chris D’Amico\, September 12th\, 2024 Live on Zoom on the Spark Broadcast over Mumbia\, India\, the United Kingdom and USA.  Hosted by Gul Kripalani\, The General Consult Of Iceland to Mumbia.  Meeting starts 9:30 AM EST.  Come join us in the Word and Presence of Almighty God. 🙏🕊🔥
URL:https://chrisdamicoministries.com/event/spark-broadcast-13/
ATTACH;FMTTYPE=image/jpeg:https://chrisdamicoministries.com/wp-content/uploads/2024/08/sept12.jpg
END:VEVENT
BEGIN:VEVENT
DTSTART;TZID=America/Detroit:20240908T133000
DTEND;TZID=America/Detroit:20240908T143000
DTSTAMP:20260421T105006
CREATED:20240513T133402Z
LAST-MODIFIED:20240829T175236Z
UID:2517-1725802200-1725805800@chrisdamicoministries.com
SUMMARY:New Church - Cerritos\, CA
DESCRIPTION:Join Dr. Chris D’Amico Sunday September 8th\, 2024 Live On Zoom @ New Church in Cerritos\, California @ 10:30 AM PT and 1:30 PM EST Hosted by Pastor Myrna Gamboa.  Come join us in the Word of God and His Supernatural Presence! 🙏🕊🌐
URL:https://chrisdamicoministries.com/event/new-church-cerritos-ca-18/
ATTACH;FMTTYPE=image/png:https://chrisdamicoministries.com/wp-content/uploads/2024/05/sept8-1.png
END:VEVENT
BEGIN:VEVENT
DTSTART;VALUE=DATE:20240818
DTEND;VALUE=DATE:20240822
DTSTAMP:20260421T105006
CREATED:20240729T150621Z
LAST-MODIFIED:20240729T150621Z
UID:2866-1723939200-1724284799@chrisdamicoministries.com
SUMMARY:Gospel Truth Lighthouse - Gadsden\, Alabama
DESCRIPTION:Join Dr. Chris D’Amico August 18th-21st\, 2024 @ Gospel Truth Lighthouse with Pastors Larry and Martha Perkins! Come experience the Uncompromised Word of God and Mighty Move of Gods supernatural power! Jesus is Lord! If you’re in the area come Join us in the move of God! 🙏🕊🌐🙌
URL:https://chrisdamicoministries.com/event/gospel-truth-lighthouse-gadsden-alabama/
ATTACH;FMTTYPE=image/png:https://chrisdamicoministries.com/wp-content/uploads/2024/07/aug18.png
END:VEVENT
BEGIN:VEVENT
DTSTART;VALUE=DATE:20240726
DTEND;VALUE=DATE:20240729
DTSTAMP:20260421T105006
CREATED:20240422T185211Z
LAST-MODIFIED:20240729T150350Z
UID:2466-1721952000-1722211199@chrisdamicoministries.com
SUMMARY:River Revival Church - Brooklyn\, NY
DESCRIPTION:Join Dr. Chris D’Amico for Special Fresh Fire Meetings July 26th-28th\, 2024 @ River Revival Church in Brooklyn\, New York with Pastors Dr.  Kamil £ Anna Halambiec.  Come Join us is Four powerful services of the Word and Spirit Meetings! You will never be the same! Jesus Is Lord! 🙏🕊🌐
URL:https://chrisdamicoministries.com/event/river-revival-church-brooklyn-ny/
ATTACH;FMTTYPE=image/png:https://chrisdamicoministries.com/wp-content/uploads/2024/04/july26.png
END:VEVENT
BEGIN:VEVENT
DTSTART;TZID=America/Detroit:20240721T133000
DTEND;TZID=America/Detroit:20240721T143000
DTSTAMP:20260421T105006
CREATED:20240422T185538Z
LAST-MODIFIED:20240422T185538Z
UID:2470-1721568600-1721572200@chrisdamicoministries.com
SUMMARY:New Church - Cerritos\, CA
DESCRIPTION:Join Dr. Chris D’Amico Sunday July 21st\, 2024 Live On Zoom @ New Church in Cerritos\, California @ 10:30 AM PT and 1:30 PM EST Hosted by Pastor Myrna Gamboa. Come join us in the Word of God and His Supernatural Presence! 🙏🕊🌐
URL:https://chrisdamicoministries.com/event/new-church-cerritos-ca-17/
ATTACH;FMTTYPE=image/png:https://chrisdamicoministries.com/wp-content/uploads/2024/04/july21.png
END:VEVENT
BEGIN:VEVENT
DTSTART;TZID=America/Detroit:20240718T093000
DTEND;TZID=America/Detroit:20240718T103000
DTSTAMP:20260421T105006
CREATED:20240513T132915Z
LAST-MODIFIED:20240513T132915Z
UID:2514-1721295000-1721298600@chrisdamicoministries.com
SUMMARY:Spark Broadcast
DESCRIPTION:Faith £ Fire over the NATIONS! Join Dr. Chris D’Amico\, July 18th\, 2024 Live on Zoom on the Spark Broadcast over Mumbia\, India\, the United Kingdom and USA.  Hosted by Gul Kripalani\, The General Consult Of Iceland to Mumbia.  Meeting starts 9:30 AM EST.  Come join us in the Word and Presence of Almighty God. 🙏🕊🔥
URL:https://chrisdamicoministries.com/event/spark-broadcast-12/
ATTACH;FMTTYPE=image/png:https://chrisdamicoministries.com/wp-content/uploads/2024/05/july18.png
END:VEVENT
BEGIN:VEVENT
DTSTART;VALUE=DATE:20240707
DTEND;VALUE=DATE:20240708
DTSTAMP:20260421T105006
CREATED:20240304T185529Z
LAST-MODIFIED:20240422T184616Z
UID:2245-1720310400-1720396799@chrisdamicoministries.com
SUMMARY:Jubilee Family Church - Oskaloosa\, IA
DESCRIPTION:Join Dr. Chris D’Amico July 7th\, 2024 AM/PM at Jubilee Family Church In Oskaloosa\, Iowa. Pastor Bill and Julie Tvedt are Pastoring a wonderful Church and are Uncompromising in Faith and Making Room For the Spirit of God to move! For more information:  Call 641-673-9852. 🙏🕊🙌
URL:https://chrisdamicoministries.com/event/jubilee-family-church-oskaloosa-ia/
ATTACH;FMTTYPE=image/png:https://chrisdamicoministries.com/wp-content/uploads/2024/03/july-7.png
END:VEVENT
BEGIN:VEVENT
DTSTART;TZID=America/Detroit:20240623T170000
DTEND;TZID=America/Detroit:20240623T190000
DTSTAMP:20260421T105006
CREATED:20240610T213442Z
LAST-MODIFIED:20240610T213442Z
UID:2630-1719162000-1719169200@chrisdamicoministries.com
SUMMARY:Bring Hope Crusade - Centre\, AL
DESCRIPTION:Join Dr. Chris D’Amico for the closing Night of Revival Fires Alabama Crusade God Loves You Cherokee County Evangelistic Crusade June 20-23 | 7PM NIGHTLY with some amazing speakers-5PM SUNDAY.  Come be apart of a great Outpouring of the Holy Ghost and Signs and Wonders to bring on the harvest of souls! 🙏🕊🙌🌐
URL:https://chrisdamicoministries.com/event/bring-hope-crusade-centre-al/
ATTACH;FMTTYPE=image/png:https://chrisdamicoministries.com/wp-content/uploads/2024/06/june23.png
END:VEVENT
BEGIN:VEVENT
DTSTART;TZID=America/Detroit:20240620T093000
DTEND;TZID=America/Detroit:20240620T103000
DTSTAMP:20260421T105006
CREATED:20240415T133020Z
LAST-MODIFIED:20240415T133020Z
UID:2440-1718875800-1718879400@chrisdamicoministries.com
SUMMARY:Spark Broadcast
DESCRIPTION:Faith £ Fire over the NATIONS! Join Dr. Chris D’Amico\, June 20th\, 2024 Live on Zoom on the Spark Broadcast over Mumbia\, India\, the United Kingdom and USA.  Hosted by Gul Kripalani\, The General Consult Of Iceland to Mumbia.  Meeting starts 9:30 AM EST.  Come join us in the Word and Presence of Almighty God. 🙏🕊🔥
URL:https://chrisdamicoministries.com/event/spark-broadcast-11/
ATTACH;FMTTYPE=image/png:https://chrisdamicoministries.com/wp-content/uploads/2024/04/june20.png
END:VEVENT
BEGIN:VEVENT
DTSTART;VALUE=DATE:20240620
DTEND;VALUE=DATE:20240624
DTSTAMP:20260421T105006
CREATED:20240523T035044Z
LAST-MODIFIED:20240523T035044Z
UID:2546-1718841600-1719187199@chrisdamicoministries.com
SUMMARY:Bringing Hope to Cherokee County - Centre Alabama\, AL
DESCRIPTION:
URL:https://chrisdamicoministries.com/event/bringing-hope-to-cherokee-county-centre-alabama-al/
ATTACH;FMTTYPE=image/jpeg:https://chrisdamicoministries.com/wp-content/uploads/2024/05/june20.jpg
END:VEVENT
BEGIN:VEVENT
DTSTART;TZID=America/Detroit:20240609T133000
DTEND;TZID=America/Detroit:20240609T143000
DTSTAMP:20260421T105006
CREATED:20240315T185247Z
LAST-MODIFIED:20240315T192140Z
UID:2310-1717939800-1717943400@chrisdamicoministries.com
SUMMARY:New Church - Cerritos\, CA
DESCRIPTION:Join Dr. Chris D’Amico Sunday June 9th\, 2024 Live On Zoom @ New Church in Cerritos\, California @ 10:30 AM PT and 1:30 PM EST Hosted by Pastor Myrna Gamboa. Come join us in the Word of God and His Supernatural Presence! 🙏🕊🌐🙌
URL:https://chrisdamicoministries.com/event/new-church-cerritos-ca-15/
ATTACH;FMTTYPE=image/png:https://chrisdamicoministries.com/wp-content/uploads/2024/03/june-9.png
END:VEVENT
BEGIN:VEVENT
DTSTART;VALUE=DATE:20240607
DTEND;VALUE=DATE:20240608
DTSTAMP:20260421T105006
CREATED:20240523T033729Z
LAST-MODIFIED:20240523T033729Z
UID:2541-1717718400-1717804799@chrisdamicoministries.com
SUMMARY:Jubilee Family Church - Oskaloosa\, IA
DESCRIPTION:Join Dr. Chris D’Amico July 7th\, 2024 AM/PM at Jubilee Family Church In Oskaloosa\, Iowa. Pastor Bill and Julie Tvedt are Pastoring a wonderful Church and are Uncompromising in Faith and Making Room For the Spirit of God to move! For more information:  Call 641-673-9852. 🙏🕊🙌
URL:https://chrisdamicoministries.com/event/jubilee-family-church-oskaloosa-ia-2/
ATTACH;FMTTYPE=image/jpeg:https://chrisdamicoministries.com/wp-content/uploads/2024/05/july7.jpg
END:VEVENT
BEGIN:VEVENT
DTSTART;TZID=America/Detroit:20240519T133000
DTEND;TZID=America/Detroit:20240519T143000
DTSTAMP:20260421T105006
CREATED:20240305T020320Z
LAST-MODIFIED:20240305T020750Z
UID:2251-1716125400-1716129000@chrisdamicoministries.com
SUMMARY:New Church - Cerritos\, CA
DESCRIPTION:Join Dr. Chris D’Amico Sunday May 19th\, 2024 Live On Zoom @ New Church in Cerritos\, California @ 10:30 AM PT and 1:30 PM EST Hosted by Pastor Myrna Gamboa.  Come join us in the Word of God and His Supernatural Presence! 🙏🕊🌐
URL:https://chrisdamicoministries.com/event/new-church-cerritos-ca-13/
ATTACH;FMTTYPE=image/jpeg:https://chrisdamicoministries.com/wp-content/uploads/2024/03/may-19.jpg
END:VEVENT
BEGIN:VEVENT
DTSTART;TZID=America/Detroit:20240424T093000
DTEND;TZID=America/Detroit:20240424T103000
DTSTAMP:20260421T105006
CREATED:20240408T155516Z
LAST-MODIFIED:20240408T155516Z
UID:2408-1713951000-1713954600@chrisdamicoministries.com
SUMMARY:Spark Broadcast
DESCRIPTION:Faith £ Fire over the NATIONS! Join Dr. Chris D’Amico\, April 24th\, 2024 Live on Zoom on the Spark Broadcast over Mumbia\, India\, the United Kingdom and USA.  Hosted by Gul Kripalani\, The General Consult Of Iceland to Mumbia.  Meeting starts 9:30 AM EST.  Come join us in the Word and Presence of Almighty God. 🙏🕊🔥
URL:https://chrisdamicoministries.com/event/spark-broadcast-10/
ATTACH;FMTTYPE=image/jpeg:https://chrisdamicoministries.com/wp-content/uploads/2024/04/cd-april24.jpg
END:VEVENT
BEGIN:VEVENT
DTSTART;TZID=America/Detroit:20240407T133000
DTEND;TZID=America/Detroit:20240407T143000
DTSTAMP:20260421T105006
CREATED:20240408T155425Z
LAST-MODIFIED:20240408T155425Z
UID:2405-1712496600-1712500200@chrisdamicoministries.com
SUMMARY:New Church - Cerritos\, CA
DESCRIPTION:Join Dr. Chris D’Amico Sunday April 7th\, 2024 Live On Zoom @ New Church in Cerritos\, California @ 10:30 AM PT and 1:30 PM EST Hosted by Pastor Myrna Gamboa. Come join us in the Word of God and His Supernatural Presence! 🙏🕊🌐
URL:https://chrisdamicoministries.com/event/new-church-cerritos-ca-16/
ATTACH;FMTTYPE=image/jpeg:https://chrisdamicoministries.com/wp-content/uploads/2024/04/cd-april7.jpg
END:VEVENT
BEGIN:VEVENT
DTSTART;TZID=America/Detroit:20240404T133000
DTEND;TZID=America/Detroit:20240404T143000
DTSTAMP:20260421T105006
CREATED:20240304T185351Z
LAST-MODIFIED:20240304T185351Z
UID:2241-1712237400-1712241000@chrisdamicoministries.com
SUMMARY:New Church - Cerritos\, CA
DESCRIPTION:Join Dr. Chris D’Amico Sunday April 4th\, 2024 Live On Zoom @ New Church in Cerritos\, California @ 10:30 AM PT and 1:30 PM EST Hosted by Pastor Myrna Gamboa. Come join us in the Word of God and His Supernatural Presence! \n🙏🕊🌐
URL:https://chrisdamicoministries.com/event/new-church-cerritos-ca-12/
ATTACH;FMTTYPE=image/png:https://chrisdamicoministries.com/wp-content/uploads/2024/03/april-4.png
END:VEVENT
BEGIN:VEVENT
DTSTART;TZID=America/Detroit:20240324T133000
DTEND;TZID=America/Detroit:20240324T143000
DTSTAMP:20260421T105006
CREATED:20240311T175553Z
LAST-MODIFIED:20240311T175553Z
UID:2293-1711287000-1711290600@chrisdamicoministries.com
SUMMARY:New Church - Cerritos\, CA
DESCRIPTION:Join Dr. Chris D’Amico Sunday March 24th\, 2024 Live On Zoom @ New Church in Cerritos\, California @ 10:30 AM PT and 1:30 PM EST Hosted by Pastor Myrna Gamboa. Come join us in the Word of God and His Supernatural Presence! 🙏🕊🌐
URL:https://chrisdamicoministries.com/event/new-church-cerritos-ca-14/
ATTACH;FMTTYPE=image/jpeg:https://chrisdamicoministries.com/wp-content/uploads/2024/03/mar-24.jpg
END:VEVENT
BEGIN:VEVENT
DTSTART;TZID=America/Detroit:20240322T093000
DTEND;TZID=America/Detroit:20240322T103000
DTSTAMP:20260421T105006
CREATED:20240307T161205Z
LAST-MODIFIED:20240307T161205Z
UID:2267-1711099800-1711103400@chrisdamicoministries.com
SUMMARY:Spark Broadcast
DESCRIPTION:Faith £ Fire over the NATIONS! Join Dr. Chris D’Amico\, March 22nd\, 2024 Live on Zoom on the Spark Broadcast over Mumbia\, India\, the United Kingdom and USA.  Hosted by Gul Kripalani\, The General Consult Of Iceland to Mumbia.  Meeting starts 9:30 AM EST.  Come join us in the Word and Presence of Almighty God. 🙏🕊🔥
URL:https://chrisdamicoministries.com/event/spark-broadcast-9/
ATTACH;FMTTYPE=image/jpeg:https://chrisdamicoministries.com/wp-content/uploads/2024/03/mar-22.jpg
END:VEVENT
BEGIN:VEVENT
DTSTART;TZID=America/Detroit:20240303T133000
DTEND;TZID=America/Detroit:20240303T143000
DTSTAMP:20260421T105006
CREATED:20240115T163337Z
LAST-MODIFIED:20240115T163337Z
UID:1997-1709472600-1709476200@chrisdamicoministries.com
SUMMARY:New Church - Cerritos\, CA
DESCRIPTION:Join Dr. Chris D’Amico Sunday March 3rd\, 2024 Live On Zoom @ New Church in Cerritos\, California @ 10:30 AM PT and 1:30 PM EST Hosted by Pastor Myrna Gamboa.  Come join us in the Word of God and His Supernatural Presence! 🙏🕊🌐
URL:https://chrisdamicoministries.com/event/new-church-cerritos-ca-11/
ATTACH;FMTTYPE=image/heic:https://chrisdamicoministries.com/wp-content/uploads/2024/01/B6250913-90ED-4586-A7B3-BC679A3EA229.heic
END:VEVENT
BEGIN:VEVENT
DTSTART;TZID=America/Detroit:20240222T093000
DTEND;TZID=America/Detroit:20240222T103000
DTSTAMP:20260421T105006
CREATED:20240108T033749Z
LAST-MODIFIED:20240108T033806Z
UID:1970-1708594200-1708597800@chrisdamicoministries.com
SUMMARY:Spark Broadcast
DESCRIPTION:Faith £ Fire over the NATIONS! Join Dr. Chris D’Amico\, February 22nd\, 2024\,  Live on Zoom on the Spark Broadcast over Mumbia\, India\, the United Kingdom and USA.  Hosted by Gul Kripalani\, The General Consult Of Iceland to Mumbia.  Meeting starts 9:30 AM EST.  Come join us in the Word and Presence of Almighty God. 🙏🕊
URL:https://chrisdamicoministries.com/event/spark-broadcast-8/
ATTACH;FMTTYPE=image/jpeg:https://chrisdamicoministries.com/wp-content/uploads/2024/01/feb-22.jpg
END:VEVENT
BEGIN:VEVENT
DTSTART;TZID=America/Detroit:20240126T093000
DTEND;TZID=America/Detroit:20240126T103000
DTSTAMP:20260421T105006
CREATED:20231221T182013Z
LAST-MODIFIED:20231221T182013Z
UID:1926-1706261400-1706265000@chrisdamicoministries.com
SUMMARY:Spark Broadcast
DESCRIPTION:Faith £ Fire over the NATIONS! Join Dr. Chris D’Amico\, January 26th\, 2024\, Live on Zoom on the Spark Broadcast over Mumbia\, India\, the United Kingdom and USA. Hosted by Gul Kripalani\, The Consult general Of Iceland to Mumbia. Meeting starts 9:30 AM EST. Come join us in the Word and Presence of Almighty God. 🙏🕊
URL:https://chrisdamicoministries.com/event/spark-broadcast-7/
ATTACH;FMTTYPE=image/jpeg:https://chrisdamicoministries.com/wp-content/uploads/2023/12/jan-26-cd.jpg
END:VEVENT
END:VCALENDAR