BEGIN:VCALENDAR
VERSION:2.0
PRODID:-//Chris D&#039;Amico Ministries - ECPv6.15.16//NONSGML v1.0//EN
CALSCALE:GREGORIAN
METHOD:PUBLISH
X-ORIGINAL-URL:https://chrisdamicoministries.com
X-WR-CALDESC:Events for Chris D&#039;Amico Ministries
REFRESH-INTERVAL;VALUE=DURATION:PT1H
X-Robots-Tag:noindex
X-PUBLISHED-TTL:PT1H
BEGIN:VTIMEZONE
TZID:America/Detroit
BEGIN:DAYLIGHT
TZOFFSETFROM:-0500
TZOFFSETTO:-0400
TZNAME:EDT
DTSTART:20220313T070000
END:DAYLIGHT
BEGIN:STANDARD
TZOFFSETFROM:-0400
TZOFFSETTO:-0500
TZNAME:EST
DTSTART:20221106T060000
END:STANDARD
BEGIN:DAYLIGHT
TZOFFSETFROM:-0500
TZOFFSETTO:-0400
TZNAME:EDT
DTSTART:20230312T070000
END:DAYLIGHT
BEGIN:STANDARD
TZOFFSETFROM:-0400
TZOFFSETTO:-0500
TZNAME:EST
DTSTART:20231105T060000
END:STANDARD
BEGIN:DAYLIGHT
TZOFFSETFROM:-0500
TZOFFSETTO:-0400
TZNAME:EDT
DTSTART:20240310T070000
END:DAYLIGHT
BEGIN:STANDARD
TZOFFSETFROM:-0400
TZOFFSETTO:-0500
TZNAME:EST
DTSTART:20241103T060000
END:STANDARD
BEGIN:DAYLIGHT
TZOFFSETFROM:-0500
TZOFFSETTO:-0400
TZNAME:EDT
DTSTART:20250309T070000
END:DAYLIGHT
BEGIN:STANDARD
TZOFFSETFROM:-0400
TZOFFSETTO:-0500
TZNAME:EST
DTSTART:20251102T060000
END:STANDARD
END:VTIMEZONE
BEGIN:VEVENT
DTSTART;TZID=America/Detroit:20240404T133000
DTEND;TZID=America/Detroit:20240404T143000
DTSTAMP:20260421T134447
CREATED:20240304T185351Z
LAST-MODIFIED:20240304T185351Z
UID:2241-1712237400-1712241000@chrisdamicoministries.com
SUMMARY:New Church - Cerritos\, CA
DESCRIPTION:Join Dr. Chris D’Amico Sunday April 4th\, 2024 Live On Zoom @ New Church in Cerritos\, California @ 10:30 AM PT and 1:30 PM EST Hosted by Pastor Myrna Gamboa. Come join us in the Word of God and His Supernatural Presence! \n🙏🕊🌐
URL:https://chrisdamicoministries.com/event/new-church-cerritos-ca-12/
ATTACH;FMTTYPE=image/png:https://chrisdamicoministries.com/wp-content/uploads/2024/03/april-4.png
END:VEVENT
BEGIN:VEVENT
DTSTART;TZID=America/Detroit:20240324T133000
DTEND;TZID=America/Detroit:20240324T143000
DTSTAMP:20260421T134447
CREATED:20240311T175553Z
LAST-MODIFIED:20240311T175553Z
UID:2293-1711287000-1711290600@chrisdamicoministries.com
SUMMARY:New Church - Cerritos\, CA
DESCRIPTION:Join Dr. Chris D’Amico Sunday March 24th\, 2024 Live On Zoom @ New Church in Cerritos\, California @ 10:30 AM PT and 1:30 PM EST Hosted by Pastor Myrna Gamboa. Come join us in the Word of God and His Supernatural Presence! 🙏🕊🌐
URL:https://chrisdamicoministries.com/event/new-church-cerritos-ca-14/
ATTACH;FMTTYPE=image/jpeg:https://chrisdamicoministries.com/wp-content/uploads/2024/03/mar-24.jpg
END:VEVENT
BEGIN:VEVENT
DTSTART;TZID=America/Detroit:20240322T093000
DTEND;TZID=America/Detroit:20240322T103000
DTSTAMP:20260421T134447
CREATED:20240307T161205Z
LAST-MODIFIED:20240307T161205Z
UID:2267-1711099800-1711103400@chrisdamicoministries.com
SUMMARY:Spark Broadcast
DESCRIPTION:Faith £ Fire over the NATIONS! Join Dr. Chris D’Amico\, March 22nd\, 2024 Live on Zoom on the Spark Broadcast over Mumbia\, India\, the United Kingdom and USA.  Hosted by Gul Kripalani\, The General Consult Of Iceland to Mumbia.  Meeting starts 9:30 AM EST.  Come join us in the Word and Presence of Almighty God. 🙏🕊🔥
URL:https://chrisdamicoministries.com/event/spark-broadcast-9/
ATTACH;FMTTYPE=image/jpeg:https://chrisdamicoministries.com/wp-content/uploads/2024/03/mar-22.jpg
END:VEVENT
BEGIN:VEVENT
DTSTART;TZID=America/Detroit:20240303T133000
DTEND;TZID=America/Detroit:20240303T143000
DTSTAMP:20260421T134447
CREATED:20240115T163337Z
LAST-MODIFIED:20240115T163337Z
UID:1997-1709472600-1709476200@chrisdamicoministries.com
SUMMARY:New Church - Cerritos\, CA
DESCRIPTION:Join Dr. Chris D’Amico Sunday March 3rd\, 2024 Live On Zoom @ New Church in Cerritos\, California @ 10:30 AM PT and 1:30 PM EST Hosted by Pastor Myrna Gamboa.  Come join us in the Word of God and His Supernatural Presence! 🙏🕊🌐
URL:https://chrisdamicoministries.com/event/new-church-cerritos-ca-11/
ATTACH;FMTTYPE=image/heic:https://chrisdamicoministries.com/wp-content/uploads/2024/01/B6250913-90ED-4586-A7B3-BC679A3EA229.heic
END:VEVENT
BEGIN:VEVENT
DTSTART;TZID=America/Detroit:20240222T093000
DTEND;TZID=America/Detroit:20240222T103000
DTSTAMP:20260421T134447
CREATED:20240108T033749Z
LAST-MODIFIED:20240108T033806Z
UID:1970-1708594200-1708597800@chrisdamicoministries.com
SUMMARY:Spark Broadcast
DESCRIPTION:Faith £ Fire over the NATIONS! Join Dr. Chris D’Amico\, February 22nd\, 2024\,  Live on Zoom on the Spark Broadcast over Mumbia\, India\, the United Kingdom and USA.  Hosted by Gul Kripalani\, The General Consult Of Iceland to Mumbia.  Meeting starts 9:30 AM EST.  Come join us in the Word and Presence of Almighty God. 🙏🕊
URL:https://chrisdamicoministries.com/event/spark-broadcast-8/
ATTACH;FMTTYPE=image/jpeg:https://chrisdamicoministries.com/wp-content/uploads/2024/01/feb-22.jpg
END:VEVENT
BEGIN:VEVENT
DTSTART;TZID=America/Detroit:20240126T093000
DTEND;TZID=America/Detroit:20240126T103000
DTSTAMP:20260421T134447
CREATED:20231221T182013Z
LAST-MODIFIED:20231221T182013Z
UID:1926-1706261400-1706265000@chrisdamicoministries.com
SUMMARY:Spark Broadcast
DESCRIPTION:Faith £ Fire over the NATIONS! Join Dr. Chris D’Amico\, January 26th\, 2024\, Live on Zoom on the Spark Broadcast over Mumbia\, India\, the United Kingdom and USA. Hosted by Gul Kripalani\, The Consult general Of Iceland to Mumbia. Meeting starts 9:30 AM EST. Come join us in the Word and Presence of Almighty God. 🙏🕊
URL:https://chrisdamicoministries.com/event/spark-broadcast-7/
ATTACH;FMTTYPE=image/jpeg:https://chrisdamicoministries.com/wp-content/uploads/2023/12/jan-26-cd.jpg
END:VEVENT
BEGIN:VEVENT
DTSTART;TZID=America/Detroit:20240107T133000
DTEND;TZID=America/Detroit:20240107T143000
DTSTAMP:20260421T134447
CREATED:20231221T174643Z
LAST-MODIFIED:20231221T174643Z
UID:1923-1704634200-1704637800@chrisdamicoministries.com
SUMMARY:New Church - Cerritos\, CA
DESCRIPTION:Join Dr. Chris D’Amico Sunday January 7th\, 2024 Live On Zoom @ New Church in Cerritos\, California @ 10:30 AM PT and 1:30 PM EST Hosted by Pastor Myrna Gamboa.  Come join us in the Word of God and His Supernatural Presence! 🙏🕊🌐
URL:https://chrisdamicoministries.com/event/new-church-cerritos-ca-10/
ATTACH;FMTTYPE=image/jpeg:https://chrisdamicoministries.com/wp-content/uploads/2023/12/jan-7-cd.jpg
END:VEVENT
BEGIN:VEVENT
DTSTART;TZID=America/Detroit:20231217T133000
DTEND;TZID=America/Detroit:20231217T143000
DTSTAMP:20260421T134447
CREATED:20230907T185330Z
LAST-MODIFIED:20230907T185330Z
UID:1740-1702819800-1702823400@chrisdamicoministries.com
SUMMARY:New Church - Cerritos\, CA
DESCRIPTION:Join Dr. Chris D’Amico Sunday  December 17th\, 2023 Live On Zoom @ New Church in Cerritos\, California @ 10:30 AM PT and 1:30 PM EST Hosted by Pastor Myrna Gamboa.  Come join us in the Word of God and His Supernatural Presence! 🙏🕊🌐
URL:https://chrisdamicoministries.com/event/new-church-cerritos-ca-9/
ATTACH;FMTTYPE=image/jpeg:https://chrisdamicoministries.com/wp-content/uploads/2023/09/dec17.jpg
END:VEVENT
BEGIN:VEVENT
DTSTART;TZID=America/Detroit:20231208T093000
DTEND;TZID=America/Detroit:20231208T103000
DTSTAMP:20260421T134447
CREATED:20230907T185513Z
LAST-MODIFIED:20230907T185513Z
UID:1743-1702027800-1702031400@chrisdamicoministries.com
SUMMARY:Spark Broadcast
DESCRIPTION:Faith £ Fire over the NATIONS! Join Dr. Chris D’Amico\, December 8th\, 2023\,  Live on Zoom on the Spark Broadcast over Mumbia\, India\, the United Kingdom and USA.  Hosted by Gul Kripalani\, The General Consult Of Iceland to Mumbia.  Meeting starts 9:30 AM EST.  Come join us in the Word and Presence of Almighty God. 🙏🕊🔥
URL:https://chrisdamicoministries.com/event/spark-broadcast-6/
ATTACH;FMTTYPE=image/jpeg:https://chrisdamicoministries.com/wp-content/uploads/2023/09/dec8.jpg
END:VEVENT
BEGIN:VEVENT
DTSTART;TZID=America/Detroit:20231119T133000
DTEND;TZID=America/Detroit:20231119T143000
DTSTAMP:20260421T134447
CREATED:20230905T181221Z
LAST-MODIFIED:20230905T181221Z
UID:1725-1700400600-1700404200@chrisdamicoministries.com
SUMMARY:New Church - Cerritos\, CA
DESCRIPTION:Join Dr. Chris D’Amico on Sunday November 19th\, 2023 Live On Zoom @ New Church in Cerritos\, California @ 10:30 AM PT and 1:30 PM EST Hosted by Pastor Myrna Gamboa. Come join us in the Word of God and His Supernatural Presence! 🙏🕊🌐
URL:https://chrisdamicoministries.com/event/new-church-cerritos-ca-7/
ATTACH;FMTTYPE=image/jpeg:https://chrisdamicoministries.com/wp-content/uploads/2023/09/nov19.jpg
END:VEVENT
BEGIN:VEVENT
DTSTART;TZID=America/Detroit:20231107T153000
DTEND;TZID=America/Detroit:20231107T160000
DTSTAMP:20260421T134447
CREATED:20231030T190755Z
LAST-MODIFIED:20231113T044102Z
UID:1769-1699371000-1699372800@chrisdamicoministries.com
SUMMARY:Precious TV
DESCRIPTION:Join Dr. Chris D’Amico Tuesday November 7th\, 2023 On the Precious TV Network Over Ghana and 17 Different Nations of Africa on the SUPERNATURAL TOUCH Broadcast.  In Ghana live @ 8:30PM and The USA 3:30 PM.  Come and receive a Supernatural Touch from God! 🙏🕊🌐
URL:https://chrisdamicoministries.com/event/precious-tv-4/
ATTACH;FMTTYPE=image/jpeg:https://chrisdamicoministries.com/wp-content/uploads/2023/10/nov-7-1.jpg
END:VEVENT
BEGIN:VEVENT
DTSTART;VALUE=DATE:20231104
DTEND;VALUE=DATE:20231106
DTSTAMP:20260421T134447
CREATED:20230109T220730Z
LAST-MODIFIED:20230425T142303Z
UID:1174-1699056000-1699228799@chrisdamicoministries.com
SUMMARY:Amazing Grace - Sterling\, IL
DESCRIPTION:Dr. Chris D’Amico will be a guest speaker at Amazing Grace in Sterling\, IL on November 4th & 5th\, 2023
URL:https://chrisdamicoministries.com/event/amazing-grace-sterling-il/
ATTACH;FMTTYPE=image/jpeg:https://chrisdamicoministries.com/wp-content/uploads/2023/01/nov4.jpg
END:VEVENT
BEGIN:VEVENT
DTSTART;TZID=America/Detroit:20231031T140000
DTEND;TZID=America/Detroit:20231031T150000
DTSTAMP:20260421T134447
CREATED:20240919T131525Z
LAST-MODIFIED:20240919T131525Z
UID:3214-1698760800-1698764400@chrisdamicoministries.com
SUMMARY:King TV
DESCRIPTION:Join Dr. Chris D’Amico live on Zoom October 31st\, 2024 as he hosts the KING TV NETWORK reaching over 182 Nations of the World.  Between 2PM-3PM EST.  Come be apart of the Word and Supernatural Presence of Almighty God! Revival Fires for the Nation’! 🙏🔥🌐 🕊
URL:https://chrisdamicoministries.com/event/king-tv-4/
ATTACH;FMTTYPE=image/jpeg:https://chrisdamicoministries.com/wp-content/uploads/2024/09/oct31.jpg
END:VEVENT
BEGIN:VEVENT
DTSTART;VALUE=DATE:20231024
DTEND;VALUE=DATE:20231027
DTSTAMP:20260421T134447
CREATED:20230905T182001Z
LAST-MODIFIED:20230905T182001Z
UID:1731-1698105600-1698364799@chrisdamicoministries.com
SUMMARY:Healing School - Castle Rock\, Colorado
DESCRIPTION:Join Dr. Chris D’Amico October 24th-26th\, 2023 In Castle Rock\, Colorado as he ministers for Reverend Jim Hockaday’s HEALING SCHOOL with JHM.  Reverend Hockaday has a very unique and powerful anointing on his life and is a voice for divine healing across America and the world.  If your in the area\, come Join Dr. Chris as he ministers three night of special meetings to lift up Jesus Christ and his Ministry to the broken in heart and body. 🙏🕊🙌🌐
URL:https://chrisdamicoministries.com/event/healing-school-castle-rock-colorado/
ATTACH;FMTTYPE=image/jpeg:https://chrisdamicoministries.com/wp-content/uploads/2023/09/oct24.jpg
END:VEVENT
BEGIN:VEVENT
DTSTART;TZID=America/Detroit:20231022T133000
DTEND;TZID=America/Detroit:20231022T143000
DTSTAMP:20260421T134447
CREATED:20230905T181751Z
LAST-MODIFIED:20230905T181751Z
UID:1728-1697981400-1697985000@chrisdamicoministries.com
SUMMARY:New Church - Cerritos\, CA
DESCRIPTION:Join Dr. Chris D’Amico on Sunday October 22nd\, 2023 Live On Zoom @ New Church in Cerritos\, California @ 10:30 AM PT and 1:30 PM EST Hosted by Pastor Myrna Gamboa.  Come join us in the Word of God and His Supernatural Presence! 🙏🕊🌐
URL:https://chrisdamicoministries.com/event/new-church-cerritos-ca-8/
ATTACH;FMTTYPE=image/jpeg:https://chrisdamicoministries.com/wp-content/uploads/2023/09/oct22.jpg
END:VEVENT
BEGIN:VEVENT
DTSTART;VALUE=DATE:20231006
DTEND;VALUE=DATE:20231009
DTSTAMP:20260421T134447
CREATED:20230116T212509Z
LAST-MODIFIED:20230425T142228Z
UID:1195-1696550400-1696809599@chrisdamicoministries.com
SUMMARY:Promiseland Church - Jackson\, OH
DESCRIPTION:Join Dr. Chris D’Amico when as he travels to The great state of Ohio\, October 6th-8th\, 2023 @ Promiseland Church in Jackson\, Ohio hosted by Pastors Rodger and Teresa Parks. Come join us in the Word and Presence of Almighty God! 🙏🕊🌐 In All that we do we exalt and lift up Jesus and honor HIS NAME!
URL:https://chrisdamicoministries.com/event/promiseland-church-jackson-oh-3/
ATTACH;FMTTYPE=image/jpeg:https://chrisdamicoministries.com/wp-content/uploads/2023/01/oct-6-8.jpg
END:VEVENT
BEGIN:VEVENT
DTSTART;VALUE=DATE:20230926
DTEND;VALUE=DATE:20230929
DTSTAMP:20260421T134447
CREATED:20230905T182130Z
LAST-MODIFIED:20230905T182130Z
UID:1735-1695686400-1695945599@chrisdamicoministries.com
SUMMARY:Healing School - Castle Rock\, Colorado
DESCRIPTION:Join Dr. Chris D’Amico September 26th-28th\, 2023 In Castle Rock\, Colorado as he ministers for Reverend Jim Hockaday’s HEALING SCHOOL with JHM.  Reverend Hockaday has a very unique and powerful anointing on his life and is a leading voice for divine healing across America and the world.  If your in the area\, come Join Dr. Chris as he ministers three night of special meetings to lift up Jesus Christ and his Ministry to the broken in heart and body. 🙏🕊🙌🌐
URL:https://chrisdamicoministries.com/event/healing-school-castle-rock-colorado-2/
ATTACH;FMTTYPE=image/jpeg:https://chrisdamicoministries.com/wp-content/uploads/2023/09/sept26.jpg
END:VEVENT
BEGIN:VEVENT
DTSTART;TZID=America/Detroit:20230922T093000
DTEND;TZID=America/Detroit:20230922T103000
DTSTAMP:20260421T134447
CREATED:20230703T155902Z
LAST-MODIFIED:20230703T155902Z
UID:1568-1695375000-1695378600@chrisdamicoministries.com
SUMMARY:Spark Broadcast
DESCRIPTION:Faith £ Fire over the NATIONS! Join Dr. Chris D’Amico\, September 22nd\, 2023\,  Live on Zoom on the Spark Broadcast over Mumbia\, India\, the United Kingdom and USA.  Hosted by Gul Kripalani\, The General Consult Of Mumbia\, India to Iceland.  Meeting starts 9:30 AM EST.  Come join us in the Word and Presence of Almighty God. 🙏🕊🔥
URL:https://chrisdamicoministries.com/event/spark-broadcast-5/
ATTACH;FMTTYPE=image/jpeg:https://chrisdamicoministries.com/wp-content/uploads/2023/07/sept-22.jpg
END:VEVENT
BEGIN:VEVENT
DTSTART;TZID=America/Detroit:20230917T133000
DTEND;TZID=America/Detroit:20230917T143000
DTSTAMP:20260421T134447
CREATED:20230905T180912Z
LAST-MODIFIED:20230905T180912Z
UID:1722-1694957400-1694961000@chrisdamicoministries.com
SUMMARY:New Church - Cerritos\, CA
DESCRIPTION:Join Dr. Chris D’Amico this Sunday September 17th\, 2023 Live On Zoom @ New Church in Cerritos\, California @ 10:30 AM PT and 1:30 PM EST Hosted by Pastor Myrna Gamboa.  Come join us in the Word of God and His Supernatural Presence! 🙏🕊🌐
URL:https://chrisdamicoministries.com/event/new-church-cerritos-ca-6/
ATTACH;FMTTYPE=image/jpeg:https://chrisdamicoministries.com/wp-content/uploads/2023/09/17th.jpg
END:VEVENT
BEGIN:VEVENT
DTSTART;TZID=America/Detroit:20230825T093000
DTEND;TZID=America/Detroit:20230825T103000
DTSTAMP:20260421T134447
CREATED:20230703T155326Z
LAST-MODIFIED:20230703T155326Z
UID:1565-1692955800-1692959400@chrisdamicoministries.com
SUMMARY:Spark Broadcast
DESCRIPTION:Faith £ Fire over the NATIONS! Join Dr. Chris D’Amico\, July 27th\, 2023\,  Live on Zoom on the Spark Broadcast over Mumbia\, India\, the United Kingdom and USA.  Hosted by Gul Kripalani\, The General Consult Of Mumbia\, India to Iceland.  Meeting starts 9:30 AM EST.  Come join us in the Word and Presence of Almighty God. 🙏🕊🔥
URL:https://chrisdamicoministries.com/event/spark-broadcast-4/
ATTACH;FMTTYPE=image/jpeg:https://chrisdamicoministries.com/wp-content/uploads/2023/07/aug-25.jpg
END:VEVENT
BEGIN:VEVENT
DTSTART;TZID=America/Detroit:20230820T103000
DTEND;TZID=America/Detroit:20230820T133000
DTSTAMP:20260421T134447
CREATED:20230703T155055Z
LAST-MODIFIED:20230816T180941Z
UID:1562-1692527400-1692538200@chrisdamicoministries.com
SUMMARY:New Church - Cerritos\, CA
DESCRIPTION:Join Dr. Chris D’Amico this Sunday August 20th\, 2023 Live On Zoom @ New Church in Cerritos\, California @ 10:30 AM PT and 1:30 PM EST Hosted by Pastor Myrna Gamboa.  Come join us in the Word of God and His Supernatural Presence! 🙏🕊🌐
URL:https://chrisdamicoministries.com/event/new-church-cerritos-ca-5/
ATTACH;FMTTYPE=image/jpeg:https://chrisdamicoministries.com/wp-content/uploads/2023/07/aug20.jpg
END:VEVENT
BEGIN:VEVENT
DTSTART;TZID=America/Detroit:20230810T140000
DTEND;TZID=America/Detroit:20230810T150000
DTSTAMP:20260421T134447
CREATED:20230706T140406Z
LAST-MODIFIED:20230706T140406Z
UID:1577-1691676000-1691679600@chrisdamicoministries.com
SUMMARY:King TV
DESCRIPTION:Join Dr. Chris D’Amico live on Zoom August 10th\, 2023 on the KING TV NETWORK reaching over 182 Nations of the World.  Between 2PM-3PM EST.  Come be apart of the Word and Supernatural Presence of Almighty God! Revival Fires for the Nation’! 🙏🔥🌐 🕊
URL:https://chrisdamicoministries.com/event/king-tv-3/
ATTACH;FMTTYPE=image/jpeg:https://chrisdamicoministries.com/wp-content/uploads/2023/07/kingtv.jpg
END:VEVENT
BEGIN:VEVENT
DTSTART;TZID=America/Detroit:20230727T093000
DTEND;TZID=America/Detroit:20230727T103000
DTSTAMP:20260421T134447
CREATED:20230621T014333Z
LAST-MODIFIED:20230621T014333Z
UID:1519-1690450200-1690453800@chrisdamicoministries.com
SUMMARY:Spark Broadcast
DESCRIPTION:Faith £ Fire over the NATIONS! Join Dr. Chris D’Amico\, July 27th\, 2023\,  Live on Zoom on the Spark Broadcast over Mumbia\, India\, the United Kingdom and USA.  Hosted by Gul Kripalani\, The General Consult Of Mumbia\, India to Iceland.  Meeting starts 9:30 AM EST.  Come join us in the Word and Presence of Almighty God. 🙏🕊🔥
URL:https://chrisdamicoministries.com/event/spark-broadcast-3/
ATTACH;FMTTYPE=image/jpeg:https://chrisdamicoministries.com/wp-content/uploads/2023/06/july27.jpg
END:VEVENT
BEGIN:VEVENT
DTSTART;TZID=America/Detroit:20230723T133000
DTEND;TZID=America/Detroit:20230723T153000
DTSTAMP:20260421T134447
CREATED:20230621T014158Z
LAST-MODIFIED:20230621T014158Z
UID:1516-1690119000-1690126200@chrisdamicoministries.com
SUMMARY:New Church - Cerritos\, California
DESCRIPTION:Join Dr. Chris D’Amico this Sunday July 23rd\, 2023 Live On Zoom @ New Church in Cerritos\, California @ 10:30 AM PT and 1:30 PM EST Hosted by Pastor Myrna Gamboa.  Come join us in the Word of God and His Supernatural Presence! 🙏🕊🌐
URL:https://chrisdamicoministries.com/event/new-church-cerritos-california-2/
ATTACH;FMTTYPE=image/jpeg:https://chrisdamicoministries.com/wp-content/uploads/2023/06/IMG_7964.jpg
END:VEVENT
BEGIN:VEVENT
DTSTART;TZID=America/Detroit:20230711T140000
DTEND;TZID=America/Detroit:20230711T150000
DTSTAMP:20260421T134447
CREATED:20230616T153450Z
LAST-MODIFIED:20230616T153450Z
UID:1505-1689084000-1689087600@chrisdamicoministries.com
SUMMARY:King TV
DESCRIPTION:Join Dr. Chris D’Amico live on Zoom July 11th\, 2023 on the KING TV NETWORK reaching over 182 Nations of the World.  Between 2PM-3PM EST.  Come be apart of the Word and Supernatural Presence of Almighty God! Revival Fires for the Nation’! 🙏🔥🌐 🕊
URL:https://chrisdamicoministries.com/event/king-tv-2/
ATTACH;FMTTYPE=image/png:https://chrisdamicoministries.com/wp-content/uploads/2023/06/july11.png
END:VEVENT
BEGIN:VEVENT
DTSTART;TZID=America/Detroit:20230622T093000
DTEND;TZID=America/Detroit:20230622T103000
DTSTAMP:20260421T134447
CREATED:20230519T041836Z
LAST-MODIFIED:20230519T041836Z
UID:1449-1687426200-1687429800@chrisdamicoministries.com
SUMMARY:Spark Broadcast - Mumbia\, India
DESCRIPTION:Faith £ Fire over the NATIONS! Join Dr. Chris D’Amico June 22nd\, 2023 Live on Zoom on the Spark Broadcast over Mumbia\, India\, the United Kingdom and USA.  Hosted by Gul Kripalani\, The General Consult Of Mumbia\, India to Iceland.  Meeting starts 9:30 AM EST.  Come join us in the Word and Presence of Almighty God. 🙏🕊🔥
URL:https://chrisdamicoministries.com/event/spark-broadcast-mumbia-india/
ATTACH;FMTTYPE=image/png:https://chrisdamicoministries.com/wp-content/uploads/2023/05/june22.png
END:VEVENT
BEGIN:VEVENT
DTSTART;TZID=America/Detroit:20230618T133000
DTEND;TZID=America/Detroit:20230618T153000
DTSTAMP:20260421T134447
CREATED:20230410T185158Z
LAST-MODIFIED:20230618T030639Z
UID:1355-1687095000-1687102200@chrisdamicoministries.com
SUMMARY:New Church - Cerritos\, California
DESCRIPTION:Join Dr. Chris D’Amico Sunday June 18th\, 2023 Live On Zoom @ New Church in Cerritos\, California @ 10:30 AM PT and 1:30 PM EST Hosted by Pastor Myrna Gamboa. Come join us in the Word of God and His Supernatural Presence! 🙏🕊🌐
URL:https://chrisdamicoministries.com/event/new-church-cerritos-california/
ATTACH;FMTTYPE=image/jpeg:https://chrisdamicoministries.com/wp-content/uploads/2023/04/june18.jpg
END:VEVENT
BEGIN:VEVENT
DTSTART;VALUE=DATE:20230610
DTEND;VALUE=DATE:20230612
DTSTAMP:20260421T134447
CREATED:20230109T221015Z
LAST-MODIFIED:20230425T142332Z
UID:1178-1686355200-1686527999@chrisdamicoministries.com
SUMMARY:Amazing Grace Church - Sterling\, IL
DESCRIPTION:Chris D’Amico will be having special meetings June 10th-11th at Amazing Grace Church in Sterling\, IL.
URL:https://chrisdamicoministries.com/event/amazing-grace-church-sterling-il/
ATTACH;FMTTYPE=image/jpeg:https://chrisdamicoministries.com/wp-content/uploads/2023/01/june10.jpg
END:VEVENT
BEGIN:VEVENT
DTSTART;VALUE=DATE:20230604
DTEND;VALUE=DATE:20230608
DTSTAMP:20260421T134447
CREATED:20230503T190749Z
LAST-MODIFIED:20230530T172415Z
UID:1410-1685836800-1686182399@chrisdamicoministries.com
SUMMARY:Ohio Campaign
DESCRIPTION:Join Dr. Chris D’Amico for the upcoming OHIO MINISTRY CAMPAIGN.  4 Cities in 5 Days! The Pentecostal Conference Sunday June 4th through Wednesday June 7th\, 2023 @ Only Believe Church in Botkins\, Ohio with Pastor Peter Doseck.  Come be apart of Revival Fires 🔥 Other speakers are Reverend Tony Suarez and Reverend Tim Bagwell.  Dr. Chris will be @ Promiseland Church in Jackson\, Ohio that Sunday June 4th for a AM/PM with Pastors Rodger £ Teresa Parks.  In addition Dr. Chris also be @ Wake up The World Ministries with Pastor Terry Robinson on Wednesday June 7th\, 2023 aswell Only Believe Ministries in Kenton\, Ohio with Pastors Phillip £ Regina Walker Thursday June 8th\, 2023. 🙏🔥🕊🌐
URL:https://chrisdamicoministries.com/event/ohio-campaign/
ATTACH;FMTTYPE=image/jpeg:https://chrisdamicoministries.com/wp-content/uploads/2023/05/ohio.jpg
END:VEVENT
BEGIN:VEVENT
DTSTART;TZID=America/Detroit:20230526T093000
DTEND;TZID=America/Detroit:20230526T103000
DTSTAMP:20260421T134447
CREATED:20230410T185339Z
LAST-MODIFIED:20230508T162620Z
UID:1358-1685093400-1685097000@chrisdamicoministries.com
SUMMARY:Mumbai\, India
DESCRIPTION:Faith £ Fire over the NATIONS! Join Dr. Chris D’Amico Live on Zoom on the Spark Broadcast over Mumbia\, India\, the United Kingdom and USA.  Hosted by Gul Kripalani\, The General Consult Of Mumbia\, India to Iceland.  Meeting starts 9:30 AM EST.  Come join us in the Word and Presence of Almighty God. 🙏🕊🔥
URL:https://chrisdamicoministries.com/event/mumbai-india/
ATTACH;FMTTYPE=image/jpeg:https://chrisdamicoministries.com/wp-content/uploads/2023/04/may-26-1.jpg
END:VEVENT
END:VCALENDAR