BEGIN:VCALENDAR
VERSION:2.0
PRODID:-//Chris D&#039;Amico Ministries - ECPv6.15.16//NONSGML v1.0//EN
CALSCALE:GREGORIAN
METHOD:PUBLISH
X-WR-CALNAME:Chris D&#039;Amico Ministries
X-ORIGINAL-URL:https://chrisdamicoministries.com
X-WR-CALDESC:Events for Chris D&#039;Amico Ministries
REFRESH-INTERVAL;VALUE=DURATION:PT1H
X-Robots-Tag:noindex
X-PUBLISHED-TTL:PT1H
BEGIN:VTIMEZONE
TZID:America/Detroit
BEGIN:DAYLIGHT
TZOFFSETFROM:-0500
TZOFFSETTO:-0400
TZNAME:EDT
DTSTART:20210314T070000
END:DAYLIGHT
BEGIN:STANDARD
TZOFFSETFROM:-0400
TZOFFSETTO:-0500
TZNAME:EST
DTSTART:20211107T060000
END:STANDARD
BEGIN:DAYLIGHT
TZOFFSETFROM:-0500
TZOFFSETTO:-0400
TZNAME:EDT
DTSTART:20220313T070000
END:DAYLIGHT
BEGIN:STANDARD
TZOFFSETFROM:-0400
TZOFFSETTO:-0500
TZNAME:EST
DTSTART:20221106T060000
END:STANDARD
BEGIN:DAYLIGHT
TZOFFSETFROM:-0500
TZOFFSETTO:-0400
TZNAME:EDT
DTSTART:20230312T070000
END:DAYLIGHT
BEGIN:STANDARD
TZOFFSETFROM:-0400
TZOFFSETTO:-0500
TZNAME:EST
DTSTART:20231105T060000
END:STANDARD
BEGIN:DAYLIGHT
TZOFFSETFROM:-0500
TZOFFSETTO:-0400
TZNAME:EDT
DTSTART:20240310T070000
END:DAYLIGHT
BEGIN:STANDARD
TZOFFSETFROM:-0400
TZOFFSETTO:-0500
TZNAME:EST
DTSTART:20241103T060000
END:STANDARD
END:VTIMEZONE
BEGIN:VEVENT
DTSTART;TZID=America/Detroit:20230430T133000
DTEND;TZID=America/Detroit:20230430T170000
DTSTAMP:20260421T181037
CREATED:20230410T184822Z
LAST-MODIFIED:20230410T184907Z
UID:1348-1682861400-1682874000@chrisdamicoministries.com
SUMMARY:New Church - Cerritos\, CA
DESCRIPTION:Join Dr. Chris D’Amico Sunday April 30th\, 2023 Live On Zoom @ New Church in Cerritos\, California @ 10:30 AM PT and 1:30 PM EST Hosted by Pastor Myrna Gamboa. Come join us in the Word of God and His Supernatural Presence! 🙏🕊🌐
URL:https://chrisdamicoministries.com/event/new-church-cerritos-ca-3/
ATTACH;FMTTYPE=image/jpeg:https://chrisdamicoministries.com/wp-content/uploads/2023/04/april-30.jpg
END:VEVENT
BEGIN:VEVENT
DTSTART;TZID=America/Detroit:20230428T083000
DTEND;TZID=America/Detroit:20230428T093000
DTSTAMP:20260421T181037
CREATED:20230227T214920Z
LAST-MODIFIED:20230425T142554Z
UID:1251-1682670600-1682674200@chrisdamicoministries.com
SUMMARY:Spark Broadcast
DESCRIPTION:On April 28th at 8:30AM Dr. Chris D’Amico will be a guest on Spark Broadcast hosted by Gul Kriplani.
URL:https://chrisdamicoministries.com/event/spark-broadcast-2/
ATTACH;FMTTYPE=image/jpeg:https://chrisdamicoministries.com/wp-content/uploads/2023/02/april28.jpg
END:VEVENT
BEGIN:VEVENT
DTSTART;VALUE=DATE:20230414
DTEND;VALUE=DATE:20230417
DTSTAMP:20260421T181037
CREATED:20230227T214024Z
LAST-MODIFIED:20230425T142609Z
UID:1242-1681430400-1681689599@chrisdamicoministries.com
SUMMARY:World Trumpet TV Annual Conference - Dallas\, TX
DESCRIPTION:Join Dr. Chris D’Amico April 14th-16th\, 2023 @ The World Trumpet TV Annual Leadership Confrence in Dallas\, Texas Hosted By Reverend Mike Kingsley.  Dr. Chris Will be the Key Note Speaker for pastors and leaders from around the Dallas\, Texas Area along with doing live TV sessions all over the world.  Come join us in the word and Presence of almighty God.  For more information call: 682-477-7483 🙏🕊🌐
URL:https://chrisdamicoministries.com/event/world-trumpet-tv-annual-conference-dallas-tx/
ATTACH;FMTTYPE=image/jpeg:https://chrisdamicoministries.com/wp-content/uploads/2023/02/april14.jpg
END:VEVENT
BEGIN:VEVENT
DTSTART;TZID=America/Detroit:20230404T140000
DTEND;TZID=America/Detroit:20230404T150000
DTSTAMP:20260421T181037
CREATED:20230320T180748Z
LAST-MODIFIED:20230425T142622Z
UID:1285-1680616800-1680620400@chrisdamicoministries.com
SUMMARY:King Television
DESCRIPTION:Watch Dr. Chris D’Amico live on the King TV Network April 4th\, 2023 over 182 nations of the world.
URL:https://chrisdamicoministries.com/event/king-television-2/
ATTACH;FMTTYPE=image/jpeg:https://chrisdamicoministries.com/wp-content/uploads/2023/03/ktv_cd.jpg
END:VEVENT
BEGIN:VEVENT
DTSTART;VALUE=DATE:20230325
DTEND;VALUE=DATE:20230329
DTSTAMP:20260421T181037
CREATED:20230116T212818Z
LAST-MODIFIED:20230327T011508Z
UID:1201-1679774400-1680033599@chrisdamicoministries.com
SUMMARY:Generation Church - Moreno Valley\, CA
DESCRIPTION:Join Dr. Chris D’Amico this Sunday March 26th (PM) & 28th\, 2023 @ Generations Church in Moreno Valley\, California with Pastors Troy And Jennifer Shedeed.  Dr. Chris will minister to On Tuesday March 28th\, for the Generations Church Ministry School.  Join us in the Word and Supernatural Power of Almighty God.  In all that we do we lift up the name of Jesus! 🙏🕊🌐
URL:https://chrisdamicoministries.com/event/generation-church-moreno-valley-ca/
ATTACH;FMTTYPE=image/jpeg:https://chrisdamicoministries.com/wp-content/uploads/2023/01/gen-church.jpg
END:VEVENT
BEGIN:VEVENT
DTSTART;VALUE=DATE:20230302
DTEND;VALUE=DATE:20230306
DTSTAMP:20260421T181037
CREATED:20230109T221504Z
LAST-MODIFIED:20230109T221504Z
UID:1181-1677783600-1678042799@chrisdamicoministries.com
SUMMARY:Promiseland Church - Jackson\, OH
DESCRIPTION:Join Dr. Chris D’Amico March 3rd-5th\, 2023 @ Promiseland Church in Jackson\, Ohio hosted by Pastors Rodger and Teresa Parks.  Come join us in the Word and Presence of Almighty God! 🙏🕊🌐 In All that we do we exalt and lift up Jesus and honor HIS NAME!
URL:https://chrisdamicoministries.com/event/promiseland-church-jackson-oh-2/
ATTACH;FMTTYPE=image/jpeg:https://chrisdamicoministries.com/wp-content/uploads/2023/01/mar3.jpg
END:VEVENT
BEGIN:VEVENT
DTSTART;TZID=America/Detroit:20230224T090000
DTEND;TZID=America/Detroit:20230224T100000
DTSTAMP:20260421T181037
CREATED:20230221T052709Z
LAST-MODIFIED:20230221T052709Z
UID:1230-1677229200-1677232800@chrisdamicoministries.com
SUMMARY:In His Presence - Sarasota\, FL
DESCRIPTION:Join Dr. Chris D’Amico Friday February 24th\, 2023 on the “In His Presence Broadcast” between 3PM-4PM EST.  Join us in the Word of God and Supernatural Presence of Almighty God. 🙏🕊🌐
URL:https://chrisdamicoministries.com/event/in-his-presence-sarasota-fl/
ATTACH;FMTTYPE=image/jpeg:https://chrisdamicoministries.com/wp-content/uploads/2023/02/feb-24.jpg
END:VEVENT
BEGIN:VEVENT
DTSTART;TZID=America/Detroit:20230219T083000
DTEND;TZID=America/Detroit:20230219T093000
DTSTAMP:20260421T181037
CREATED:20230221T052903Z
LAST-MODIFIED:20230221T052903Z
UID:1233-1676795400-1676799000@chrisdamicoministries.com
SUMMARY:New Church - Cerritos\, CA
DESCRIPTION:Join Dr. Chris D’Amico Sunday February 19th\, 2023 Live On Zoom @ New Church in Cerritos\, California @ 10:30 AM PT and 1:30 PM EST Hosted by Pastor Myrna Gamboa.  Come join us in the Word of God and Supernatural Presence to start out the New Year for His Glory and Honor! 🙏🕊🌐
URL:https://chrisdamicoministries.com/event/new-church-cerritos-ca-2/
ATTACH;FMTTYPE=image/jpeg:https://chrisdamicoministries.com/wp-content/uploads/2023/02/feb19.jpg
END:VEVENT
BEGIN:VEVENT
DTSTART;TZID=America/Detroit:20230210T033000
DTEND;TZID=America/Detroit:20230210T043000
DTSTAMP:20260421T181037
CREATED:20230221T053031Z
LAST-MODIFIED:20230221T053031Z
UID:1236-1675999800-1676003400@chrisdamicoministries.com
SUMMARY:Spark Broadcast - Mumbai\, India
DESCRIPTION:
URL:https://chrisdamicoministries.com/event/spark-broadcast-mumbai-india/
ATTACH;FMTTYPE=image/jpeg:https://chrisdamicoministries.com/wp-content/uploads/2023/02/feb-10.jpg
END:VEVENT
BEGIN:VEVENT
DTSTART;TZID=America/Detroit:20230207T110000
DTEND;TZID=America/Detroit:20230207T120000
DTSTAMP:20260421T181037
CREATED:20230123T105019Z
LAST-MODIFIED:20230123T105032Z
UID:1209-1675767600-1675771200@chrisdamicoministries.com
SUMMARY:Precious TV
DESCRIPTION:Join Dr. Chris D’Amico On Miracle Time \, Hosted By Rev. Francis Agyinasare on the Precious TV Network.  Between 4PM-5PM Est February 7th\, 2023 USA and 8 PM in Africa.  Join us in the Word and Supernatural Presence of Almighty God! 🙏🕊🌐
URL:https://chrisdamicoministries.com/event/precious-tv-3/
ATTACH;FMTTYPE=image/jpeg:https://chrisdamicoministries.com/wp-content/uploads/2023/01/feb7.jpg
END:VEVENT
BEGIN:VEVENT
DTSTART;TZID=America/Detroit:20230127T090000
DTEND;TZID=America/Detroit:20230127T100000
DTSTAMP:20260421T181037
CREATED:20230116T211730Z
LAST-MODIFIED:20230116T211838Z
UID:1191-1674810000-1674813600@chrisdamicoministries.com
SUMMARY:In His Presence - Facebook Live
DESCRIPTION:Join Dr. Chris D’Amico and Special Guests Pastor Bill Tvedt and Pastor Alfonso Vargas on The ”In His Presence” Broadcast Friday January 27th\, 2023 from 2PM-3PM EST. Come Join us in the Word of God and Presence of God! 🙏🕊🌐
URL:https://chrisdamicoministries.com/event/in-his-presence-facebook-live/
ATTACH;FMTTYPE=image/jpeg:https://chrisdamicoministries.com/wp-content/uploads/2023/01/705488D8-6B99-4C71-8AE6-BFDD0BF961AB.jpg
END:VEVENT
BEGIN:VEVENT
DTSTART;TZID=America/Detroit:20230120T033000
DTEND;TZID=America/Detroit:20230120T070000
DTSTAMP:20260421T181037
CREATED:20230103T012122Z
LAST-MODIFIED:20230103T014549Z
UID:1156-1674185400-1674198000@chrisdamicoministries.com
SUMMARY:Spark Broadcast
DESCRIPTION:Dr. Chris D’Amico will be live on Spark Broadcast January 20th at 8:30AM EST
URL:https://chrisdamicoministries.com/event/spark-broadcast/
ATTACH;FMTTYPE=image/jpeg:https://chrisdamicoministries.com/wp-content/uploads/2023/01/IMG_4807.jpg
END:VEVENT
BEGIN:VEVENT
DTSTART;TZID=America/Detroit:20230108T083000
DTEND;TZID=America/Detroit:20230108T120000
DTSTAMP:20260421T181037
CREATED:20230103T012340Z
LAST-MODIFIED:20230103T014459Z
UID:1158-1673166600-1673179200@chrisdamicoministries.com
SUMMARY:New Church - Cerritos\, CA
DESCRIPTION:Join Chris D’Amico on Sunday\, January 8th at 1:30PM EST / 10:30AM PST at New Church in Cerritos\, California.
URL:https://chrisdamicoministries.com/event/new-church-cerritos-ca/
ATTACH;FMTTYPE=image/jpeg:https://chrisdamicoministries.com/wp-content/uploads/2023/01/IMG_4792.jpg
END:VEVENT
BEGIN:VEVENT
DTSTART;TZID=America/Detroit:20221213T110000
DTEND;TZID=America/Detroit:20221213T120000
DTSTAMP:20260421T181037
CREATED:20221215T232554Z
LAST-MODIFIED:20221215T232554Z
UID:1143-1670929200-1670932800@chrisdamicoministries.com
SUMMARY:Precious TV
DESCRIPTION:Dr. Chris D’Amico will be live on Precious TV December 13th at 4PM EST. Precious TV Network reached Ghana and 17 other African nations.
URL:https://chrisdamicoministries.com/event/precious-tv-2/
ATTACH;FMTTYPE=image/jpeg:https://chrisdamicoministries.com/wp-content/uploads/2022/12/IMG_4593.jpg
END:VEVENT
BEGIN:VEVENT
DTSTART;TZID=America/Detroit:20221208T033000
DTEND;TZID=America/Detroit:20221210T043000
DTSTAMP:20260421T181037
CREATED:20221119T003046Z
LAST-MODIFIED:20221119T003046Z
UID:1120-1670470200-1670646600@chrisdamicoministries.com
SUMMARY:Spark TV Network
DESCRIPTION:Dr. Chris D’Amico will be live on Zoom\, December 8th at 8:30AM with Spark TV Network
URL:https://chrisdamicoministries.com/event/spark-tv-network/
ATTACH;FMTTYPE=image/jpeg:https://chrisdamicoministries.com/wp-content/uploads/2022/11/IMG_4071.jpg
END:VEVENT
BEGIN:VEVENT
DTSTART;TZID=America/Detroit:20221111T043000
DTEND;TZID=America/Detroit:20221111T053000
DTSTAMP:20260421T181037
CREATED:20221031T223054Z
LAST-MODIFIED:20221031T223054Z
UID:1109-1668141000-1668144600@chrisdamicoministries.com
SUMMARY:Spark Network
DESCRIPTION:Join Dr. Chris D’Amico Friday November 11th\, 2022 @ 9:30 AM Est on The Spark Network Broadcast over USA\, UK and INDIA.  Hosted by Gul Kripalani the General Consulate of India to Mumbia.  Come join us in the Word and God’s Presence. Faith £ Fire for the nation’s! 🙏🕊🌐🔥
URL:https://chrisdamicoministries.com/event/spark-network/
ATTACH;FMTTYPE=image/jpeg:https://chrisdamicoministries.com/wp-content/uploads/2022/06/nov-11.jpg
END:VEVENT
BEGIN:VEVENT
DTSTART;VALUE=DATE:20221104
DTEND;VALUE=DATE:20221107
DTSTAMP:20260421T181037
CREATED:20220627T200921Z
LAST-MODIFIED:20221031T222052Z
UID:954-1667592000-1667761199@chrisdamicoministries.com
SUMMARY:Amazing Grace Church
DESCRIPTION:Join Chris D’Amico at Amazing Grace Church November 5th-6th in Sterling\, IL.
URL:https://chrisdamicoministries.com/event/amazing-grace-church/
ATTACH;FMTTYPE=image/jpeg:https://chrisdamicoministries.com/wp-content/uploads/2022/06/nov-5.jpg
END:VEVENT
BEGIN:VEVENT
DTSTART;TZID=America/Detroit:20221102T060000
DTEND;TZID=America/Detroit:20221103T070000
DTSTAMP:20260421T181037
CREATED:20221031T222908Z
LAST-MODIFIED:20221031T222922Z
UID:1106-1667368800-1667458800@chrisdamicoministries.com
SUMMARY:Best Life Network
DESCRIPTION:Join Dr. Chris D’Amico November 2nd\, 2022 on Best Life Network between 10AM-11AM EST with Dr. Larry Langston\, president of Best Life Network. Come join us in the Word of God and Mighty Presence of God. 🙏🕊🌐🔥
URL:https://chrisdamicoministries.com/event/best-life-network/
ATTACH;FMTTYPE=image/jpeg:https://chrisdamicoministries.com/wp-content/uploads/2022/06/nov-2.jpg
END:VEVENT
BEGIN:VEVENT
DTSTART;VALUE=DATE:20221019
DTEND;VALUE=DATE:20221024
DTSTAMP:20260421T181037
CREATED:20220815T184940Z
LAST-MODIFIED:20220815T184940Z
UID:1004-1666209600-1666555199@chrisdamicoministries.com
SUMMARY:Breakthrough Harvest Church - Ottawa\, OH
DESCRIPTION:Join Dr. Chris D’Amico October 20th 23rd\, 2022 at Breakthrough Harvest Church in Ottawa\, OH.
URL:https://chrisdamicoministries.com/event/breakthrough-harvest-church-ottawa-oh/
ATTACH;FMTTYPE=image/jpeg:https://chrisdamicoministries.com/wp-content/uploads/2022/08/IMG_2122.jpg
END:VEVENT
BEGIN:VEVENT
DTSTART;VALUE=DATE:20221015
DTEND;VALUE=DATE:20221019
DTSTAMP:20260421T181037
CREATED:20220802T004246Z
LAST-MODIFIED:20220802T004246Z
UID:989-1665864000-1666123199@chrisdamicoministries.com
SUMMARY:Lighthouse Pentecostal Church - Carey\, OH
DESCRIPTION:Join Dr. Chris D’Amico for a special Faith & Fire Meeting Sunday\, October 16th – Tuesday\, October 18th\, 2022 at Lighthouse Pentecostal Church in Cary\, Ohio with Pastor Joe Turner. Come join us in the Word and supernatural presence of God! 🙏🕊🌐
URL:https://chrisdamicoministries.com/event/lighthouse-pentecostal-church-carey-oh/
LOCATION:Lighthouse Pentecostal Church\, 1888 Co Hwy 96\, Carey\, OH\, 43316\, United States
ATTACH;FMTTYPE=image/jpeg:https://chrisdamicoministries.com/wp-content/uploads/2022/08/cdm-oct-16.jpg
END:VEVENT
BEGIN:VEVENT
DTSTART;VALUE=DATE:20221015
DTEND;VALUE=DATE:20221019
DTSTAMP:20260421T181037
CREATED:20220711T182638Z
LAST-MODIFIED:20220919T181526Z
UID:969-1665864000-1666123199@chrisdamicoministries.com
SUMMARY:Spark Meeting
DESCRIPTION:Dr. Chris D’Amico will be live on Zoom\, September 16th at 9:30AM with Gil Kripalani.
URL:https://chrisdamicoministries.com/event/spark-meeting/
END:VEVENT
BEGIN:VEVENT
DTSTART;VALUE=DATE:20221013
DTEND;VALUE=DATE:20221016
DTSTAMP:20260421T181037
CREATED:20220815T190416Z
LAST-MODIFIED:20220815T190416Z
UID:1009-1665691200-1665863999@chrisdamicoministries.com
SUMMARY:Promiseland Church - Jackson\, OH
DESCRIPTION:Dr. Chris D’Amico will be at Promiseland Church in Jackson\, OH on October 14th – 15th\, 2022.
URL:https://chrisdamicoministries.com/event/promiseland-church-jackson-oh/
ATTACH;FMTTYPE=image/jpeg:https://chrisdamicoministries.com/wp-content/uploads/2022/08/IMG_1739.jpg
END:VEVENT
BEGIN:VEVENT
DTSTART;TZID=America/Detroit:20221005T060000
DTEND;TZID=America/Detroit:20221005T070000
DTSTAMP:20260421T181037
CREATED:20220829T163309Z
LAST-MODIFIED:20220829T163309Z
UID:1030-1664949600-1664953200@chrisdamicoministries.com
SUMMARY:Best Life TV Network
DESCRIPTION:Join Chris D’Amico on October 5th at 10AM on Best Life TV Network.
URL:https://chrisdamicoministries.com/event/best-life-tv-network/
ATTACH;FMTTYPE=image/jpeg:https://chrisdamicoministries.com/wp-content/uploads/2022/08/4A25FE16-1A97-4A33-B63B-E655B4E50740.jpg
END:VEVENT
BEGIN:VEVENT
DTSTART;TZID=America/Detroit:20220906T120000
DTEND;TZID=America/Detroit:20220906T130000
DTSTAMP:20260421T181037
CREATED:20220817T171631Z
LAST-MODIFIED:20220907T172022Z
UID:1017-1662465600-1662469200@chrisdamicoministries.com
SUMMARY:Precious TV
DESCRIPTION:Dr. Chris D’Amico will be live on Precious TV September 6th at 4PM EST. Precious TV Network reached Ghana and 17 other African nations.
URL:https://chrisdamicoministries.com/event/precious-tv/
ATTACH;FMTTYPE=image/jpeg:https://chrisdamicoministries.com/wp-content/uploads/2022/08/IMG_2726.jpg
END:VEVENT
BEGIN:VEVENT
DTSTART;TZID=America/Detroit:20220819T100000
DTEND;TZID=America/Detroit:20220819T110000
DTSTAMP:20260421T181037
CREATED:20220819T191434Z
LAST-MODIFIED:20220819T191434Z
UID:1021-1660903200-1660906800@chrisdamicoministries.com
SUMMARY:Trumpet TV Network
DESCRIPTION:Join Dr. Chris D’Amico August 19th\, 2022 on The Trumpet TV Network over 160 Nations between 2PM-3PM EST hosted by network owner Mike Kingsley. 🙏🕊🌐
URL:https://chrisdamicoministries.com/event/trumpet-tv-network/
ATTACH;FMTTYPE=image/jpeg:https://chrisdamicoministries.com/wp-content/uploads/2022/08/IMG_2155.jpg
END:VEVENT
BEGIN:VEVENT
DTSTART;VALUE=DATE:20220806
DTEND;VALUE=DATE:20220810
DTSTAMP:20260421T181037
CREATED:20220711T182513Z
LAST-MODIFIED:20220711T182513Z
UID:966-1659816000-1660075199@chrisdamicoministries.com
SUMMARY:New Vision Ministries - Murfreesboro\, NC
DESCRIPTION:Join Dr. Chris D’Amico for special Faith & Fire Meetings August 7th-9th\, 2022 @ New Vision Ministries with Pastor Sandy and Heather Outlaw in Murfreesboro\, North Carolina. Come join us in the Word And Supernatural Presence of God!
URL:https://chrisdamicoministries.com/event/new-vision-ministries-murfreesboro-nc/
ATTACH;FMTTYPE=image/jpeg:https://chrisdamicoministries.com/wp-content/uploads/2022/07/IMG_1217.jpg
END:VEVENT
BEGIN:VEVENT
DTSTART;VALUE=DATE:20220805
DTEND;VALUE=DATE:20220809
DTSTAMP:20260421T181037
CREATED:20220724T011907Z
LAST-MODIFIED:20220724T011922Z
UID:980-1659729600-1659988799@chrisdamicoministries.com
SUMMARY:New Vision Ministries - Murfreesboro\, NC
DESCRIPTION:Join Dr. Chris D’Amico for special Faith & Fire 🔥 Meetings August 7th-8th\, 2022 @ New Vision Ministries with Pastor Sandy and Heather Outlaw in Murfreesboro\, North Carolina.  Come join us in the Word And Supernatural Presence of God! 🙏🕊🌐
URL:https://chrisdamicoministries.com/event/new-vision-ministries-murfreesboro-nc-2/
LOCATION:New Vision Ministries\, 1845 NC-11\, Murfreesboro\, NC\, 27855
END:VEVENT
BEGIN:VEVENT
DTSTART;TZID=America/Detroit:20220630T150000
DTEND;TZID=America/Detroit:20220630T160000
DTSTAMP:20260421T181037
CREATED:20220628T061710Z
LAST-MODIFIED:20220628T061710Z
UID:957-1656601200-1656604800@chrisdamicoministries.com
SUMMARY:Top TV Network
DESCRIPTION:Join Dr. Chris D’Amico June 30th\, 2022 on Top TV Network based in Kampala\, Uganda founded by Pastor Jackson Senyonga. Pastor Senyonga has a church that seats over 40\,000 people and has over 8\,000 churches under his leadership. Top TV has a viewership of over 10 million people in Uganda and is seen in dozens of other African nations!
URL:https://chrisdamicoministries.com/event/top-tv-network-2/
ATTACH;FMTTYPE=image/jpeg:https://chrisdamicoministries.com/wp-content/uploads/2022/06/cd-j30.jpg
END:VEVENT
BEGIN:VEVENT
DTSTART;TZID=America/Detroit:20220611T060000
DTEND;TZID=America/Detroit:20220612T080000
DTSTAMP:20260421T181037
CREATED:20220120T101624Z
LAST-MODIFIED:20220120T101634Z
UID:849-1654927200-1655020800@chrisdamicoministries.com
SUMMARY:Amazing Grace Church - Sterling\, Illinois
DESCRIPTION:Join Dr. Chris D’Amico at Amazing Grace in Sterling\, Illinois on June 11th & 12th.
URL:https://chrisdamicoministries.com/event/amazing-grace-2021-sterling-illinois-3/
ATTACH;FMTTYPE=image/jpeg:https://chrisdamicoministries.com/wp-content/uploads/2022/01/IMG_6130.jpg
END:VEVENT
BEGIN:VEVENT
DTSTART;TZID=America/Detroit:20220524T120000
DTEND;TZID=America/Detroit:20220524T130000
DTSTAMP:20260421T181037
CREATED:20220525T032710Z
LAST-MODIFIED:20220525T032917Z
UID:924-1653393600-1653397200@chrisdamicoministries.com
SUMMARY:Precious TV Network
DESCRIPTION:Chris D’Amico will be live on Precious TV Network May 24th\, 2022.
URL:https://chrisdamicoministries.com/event/precious-tv-network-2/
ATTACH;FMTTYPE=image/jpeg:https://chrisdamicoministries.com/wp-content/uploads/2022/05/damico-may24.jpg
END:VEVENT
END:VCALENDAR